BEGIN:VCALENDAR
PRODID:NingEventWidget-v1
VERSION:2.0
METHOD:PUBLISH
BEGIN:VTIMEZONE
TZID:America/New_York
X-LIC-LOCATION:America/New_York
BEGIN:DAYLIGHT
TZOFFSETFROM:-0500
TZOFFSETTO:-0400
TZNAME:EDT
DTSTART:19700308T020000
RRULE:FREQ=YEARLY;BYMONTH=3;BYDAY=2SU
END:DAYLIGHT
BEGIN:STANDARD
TZOFFSETFROM:-0400
TZOFFSETTO:-0500
TZNAME:EST
DTSTART:19701101T020000
RRULE:FREQ=YEARLY;BYMONTH=11;BYDAY=1SU
END:STANDARD
END:VTIMEZONE
BEGIN:VEVENT
UID:6419709:Event:45334
DTSTAMP:20260421T231356Z
SUMMARY:104.3 FM LIVE ON STAGE
DESCRIPTION:CALLING ALL ADAM LAMBERT FANS!\nAdam will be hitting the M
 Ystage on Monday, 4/2, here at the MYfm studios! The winners have be
 en announced and now all that is left is the performance! This is goin
 g to be a very private, intimate performance so all you lucky winners.
 ..glam up & let's have some fun!\nCheck back for photos and videos fro
 m Adam's visit!  \n\nIt is an amazing experience to be this up-close 
 and personal.  \nCourtesy of RCA Records.\n Read more: http://www.10
 43myfm.com/pages/artistsconcerts.html?article=9975286#ixzz1qr6bTaZj\n\
 nFor more information visit https://adamlambertstorm.com/events/104-3-
 fm-livve-on-stage
DTSTART;TZID=America/New_York:20120402T120000
DTEND;TZID=America/New_York:20120402T140000
CATEGORIES:private, radio, performance
LOCATION:104.3 FM
WEBSITE:http://www.1043myfm.com/pages/artistsconcerts.html
URL:http://www.1043myfm.com/pages/artistsconcerts.html
CONTACT:
ORGANIZER;CN=Barbls:https://adamlambertstorm.com/profile/BARBLS
ATTACH;FMTTYPE="image/jpeg":http://storage.ning.com/topology/rest/1.0/
 file/get/120050136?profile=original
ATTENDEE;ROLE=REQ-PARTICIPANT;PARTSTAT=ACCEPTED;RSVP=TRUE;CN=Barbls:ht
 tps://adamlambertstorm.com/profile/BARBLS
END:VEVENT
END:VCALENDAR
