BEGIN:VCALENDAR
PRODID:NingEventWidget-v1
VERSION:2.0
METHOD:PUBLISH
BEGIN:VTIMEZONE
TZID:America/New_York
X-LIC-LOCATION:America/New_York
BEGIN:DAYLIGHT
TZOFFSETFROM:-0500
TZOFFSETTO:-0400
TZNAME:EDT
DTSTART:19700308T020000
RRULE:FREQ=YEARLY;BYMONTH=3;BYDAY=2SU
END:DAYLIGHT
BEGIN:STANDARD
TZOFFSETFROM:-0400
TZOFFSETTO:-0500
TZNAME:EST
DTSTART:19701101T020000
RRULE:FREQ=YEARLY;BYMONTH=11;BYDAY=1SU
END:STANDARD
END:VTIMEZONE
BEGIN:VEVENT
UID:6419709:Event:70532
DTSTAMP:20260421T181030Z
SUMMARY:12/2/16 - CMT Artist of the Year Awards w/ Leona Lewis ~ NASHV
 ILLE, TN
DESCRIPTION:\n\nFor more information visit https://adamlambertstorm.co
 m/events/12-2-16-cmt-artist-of-the-year-awards-w-leona-lewis-nashville
 -tn
DTSTART;TZID=America/New_York:20151202T200000
DTEND;TZID=America/New_York:20151202T213000
CATEGORIES:tv, country, awards, show
LOCATION:Nashville, TN
WEBSITE:
URL:
CONTACT:
ORGANIZER;CN=Barbls:https://adamlambertstorm.com/profile/BARBLS
ATTACH;FMTTYPE="image/jpeg":http://storage.ning.com/topology/rest/1.0/
 file/get/120066689?profile=original
ATTENDEE;ROLE=REQ-PARTICIPANT;PARTSTAT=ACCEPTED;RSVP=TRUE;CN=Barbls:ht
 tps://adamlambertstorm.com/profile/BARBLS
END:VEVENT
END:VCALENDAR
