BEGIN:VCALENDAR
PRODID:NingEventWidget-v1
VERSION:2.0
METHOD:PUBLISH
BEGIN:VTIMEZONE
TZID:America/New_York
X-LIC-LOCATION:America/New_York
BEGIN:DAYLIGHT
TZOFFSETFROM:-0500
TZOFFSETTO:-0400
TZNAME:EDT
DTSTART:19700308T020000
RRULE:FREQ=YEARLY;BYMONTH=3;BYDAY=2SU
END:DAYLIGHT
BEGIN:STANDARD
TZOFFSETFROM:-0400
TZOFFSETTO:-0500
TZNAME:EST
DTSTART:19701101T020000
RRULE:FREQ=YEARLY;BYMONTH=11;BYDAY=1SU
END:STANDARD
END:VTIMEZONE
BEGIN:VEVENT
UID:6419709:Event:70835
DTSTAMP:20260421T124549Z
SUMMARY:12/05/15 -  MIX 94.9 NOT SO SILENT NIGHT~ LAS VEGAS, NV
DESCRIPTION:\n\n\n\n\nFor more information visit https://adamlambertst
 orm.com/events/12-5-15-mix-94-9-not-so-silent-night-las-vegas-nv
DTSTART;TZID=America/New_York:20151205T190000
DTEND;TZID=America/New_York:20151208T220000
CATEGORIES:radio, concert
LOCATION:Hard Rock @ The Joint
WEBSITE:
URL:
CONTACT:
ORGANIZER;CN=Barbls:https://adamlambertstorm.com/profile/BARBLS
ATTACH;FMTTYPE="image/jpeg":http://storage.ning.com/topology/rest/1.0/
 file/get/120067359?profile=original
ATTENDEE;ROLE=REQ-PARTICIPANT;PARTSTAT=ACCEPTED;RSVP=TRUE;CN=Barbls:ht
 tps://adamlambertstorm.com/profile/BARBLS
END:VEVENT
END:VCALENDAR
