BEGIN:VCALENDAR
PRODID:NingEventWidget-v1
VERSION:2.0
METHOD:PUBLISH
BEGIN:VTIMEZONE
TZID:America/New_York
X-LIC-LOCATION:America/New_York
BEGIN:DAYLIGHT
TZOFFSETFROM:-0500
TZOFFSETTO:-0400
TZNAME:EDT
DTSTART:19700308T020000
RRULE:FREQ=YEARLY;BYMONTH=3;BYDAY=2SU
END:DAYLIGHT
BEGIN:STANDARD
TZOFFSETFROM:-0400
TZOFFSETTO:-0500
TZNAME:EST
DTSTART:19701101T020000
RRULE:FREQ=YEARLY;BYMONTH=11;BYDAY=1SU
END:STANDARD
END:VTIMEZONE
BEGIN:VEVENT
UID:6419709:Event:45300
DTSTAMP:20260421T194606Z
SUMMARY:96.5 TIC Spring Fling concer
DESCRIPTION:96,5 TIC Spring Fling Concert presented by Coca Cola on th
 e Metro PCS stage in our Catering Grove on Saturday, May 26.\n\nFor mo
 re information visit https://adamlambertstorm.com/events/5tic-spring-f
 ling-concert
DTSTART;TZID=America/New_York:20120526T180000
DTEND;TZID=America/New_York:20120526T200000
CATEGORIES:concert
LOCATION:Six Flags New England 1623 Main St., Agawam, MA 01001
WEBSITE:https://www.facebook.com/events/302959783107889/
URL:https://www.facebook.com/events/302959783107889/
CONTACT:
ORGANIZER;CN=Barbls:https://adamlambertstorm.com/profile/BARBLS
ATTACH;FMTTYPE="image/jpeg":http://storage.ning.com/topology/rest/1.0/
 file/get/120050434?profile=original
ATTENDEE;ROLE=REQ-PARTICIPANT;PARTSTAT=ACCEPTED;RSVP=TRUE;CN=Barbls:ht
 tps://adamlambertstorm.com/profile/BARBLS
END:VEVENT
END:VCALENDAR
