BEGIN:VCALENDAR
PRODID:NingEventWidget-v1
VERSION:2.0
METHOD:PUBLISH
BEGIN:VTIMEZONE
TZID:America/New_York
X-LIC-LOCATION:America/New_York
BEGIN:DAYLIGHT
TZOFFSETFROM:-0500
TZOFFSETTO:-0400
TZNAME:EDT
DTSTART:19700308T020000
RRULE:FREQ=YEARLY;BYMONTH=3;BYDAY=2SU
END:DAYLIGHT
BEGIN:STANDARD
TZOFFSETFROM:-0400
TZOFFSETTO:-0500
TZNAME:EST
DTSTART:19701101T020000
RRULE:FREQ=YEARLY;BYMONTH=11;BYDAY=1SU
END:STANDARD
END:VTIMEZONE
BEGIN:VEVENT
UID:6419709:Event:70031
DTSTAMP:20260421T214952Z
SUMMARY:8/30/15 - FUSION FESTIVAL ~ BIRMINGHAM, UK
DESCRIPTION:\nWorld Clock (based on Shosh's tweet that Adam should go 
 on around 6:00 p.m.): http://www.timeanddate.com/worldclock/fixedtime.
 html?msg=Fusion+Festival&iso=20150830T18&p1=297&ah=1  Audio streams:  
 http://mixlr.com/todt05/ http://mixlr.com/muffilepardskin/\n\nFor more
  information visit https://adamlambertstorm.com/events/8-30-15-fusion-
 festival-birmingham-uk
DTSTART;TZID=America/New_York:20150830T130000
DTEND;TZID=America/New_York:20150830T140000
CATEGORIES:concert
LOCATION:Fusion Festival
WEBSITE:
URL:
CONTACT:
ORGANIZER;CN=Barbls:https://adamlambertstorm.com/profile/BARBLS
ATTACH;FMTTYPE="image/jpeg":http://storage.ning.com/topology/rest/1.0/
 file/get/120066622?profile=original
ATTENDEE;ROLE=REQ-PARTICIPANT;PARTSTAT=ACCEPTED;RSVP=TRUE;CN=Barbls:ht
 tps://adamlambertstorm.com/profile/BARBLS
END:VEVENT
END:VCALENDAR
