BEGIN:VCALENDAR
PRODID:NingEventWidget-v1
VERSION:2.0
METHOD:PUBLISH
BEGIN:VTIMEZONE
TZID:America/New_York
X-LIC-LOCATION:America/New_York
BEGIN:DAYLIGHT
TZOFFSETFROM:-0500
TZOFFSETTO:-0400
TZNAME:EDT
DTSTART:19700308T020000
RRULE:FREQ=YEARLY;BYMONTH=3;BYDAY=2SU
END:DAYLIGHT
BEGIN:STANDARD
TZOFFSETFROM:-0400
TZOFFSETTO:-0500
TZNAME:EST
DTSTART:19701101T020000
RRULE:FREQ=YEARLY;BYMONTH=11;BYDAY=1SU
END:STANDARD
END:VTIMEZONE
BEGIN:VEVENT
UID:6419709:Event:46344
DTSTAMP:20260421T214435Z
SUMMARY:Adam ON Watch What Happens With Andy Cohen on Bravo
DESCRIPTION:Adam Lambert on Watch What Happens: Live 5/24 11:01 pm Bra
 vo Channel http://pic.twitter.com/Bl6sqghK\n\nFor more information vis
 it https://adamlambertstorm.com/events/ada-on-watch-what-happens-on-br
 avo
DTSTART;TZID=America/New_York:20120524T230000
DTEND;TZID=America/New_York:20120524T233000
CATEGORIES:tv, program
LOCATION:Bravo Channel Andy Cohen Show
WEBSITE:http://pic.twitter.com/Bl6sqghK
URL:http://pic.twitter.com/Bl6sqghK
CONTACT:
ORGANIZER;CN=Barbls:https://adamlambertstorm.com/profile/BARBLS
ATTACH;FMTTYPE="image/jpeg":http://storage.ning.com/topology/rest/1.0/
 file/get/120051945?profile=original
ATTENDEE;ROLE=REQ-PARTICIPANT;PARTSTAT=ACCEPTED;RSVP=TRUE;CN=Barbls:ht
 tps://adamlambertstorm.com/profile/BARBLS
END:VEVENT
END:VCALENDAR
