BEGIN:VCALENDAR
PRODID:NingEventWidget-v1
VERSION:2.0
METHOD:PUBLISH
BEGIN:VTIMEZONE
TZID:America/New_York
X-LIC-LOCATION:America/New_York
BEGIN:DAYLIGHT
TZOFFSETFROM:-0500
TZOFFSETTO:-0400
TZNAME:EDT
DTSTART:19700308T020000
RRULE:FREQ=YEARLY;BYMONTH=3;BYDAY=2SU
END:DAYLIGHT
BEGIN:STANDARD
TZOFFSETFROM:-0400
TZOFFSETTO:-0500
TZNAME:EST
DTSTART:19701101T020000
RRULE:FREQ=YEARLY;BYMONTH=11;BYDAY=1SU
END:STANDARD
END:VTIMEZONE
BEGIN:VEVENT
UID:6419709:Event:42049
DTSTAMP:20260421T124518Z
SUMMARY:Adam's Debut Of \"Better Than I Know Myself\" On \"The Ellen D
 egeneres Show\"
DESCRIPTION:Tickets are already GONE! Check your local listings for th
 e right time and channel it shows in your area!!\n\n\nFor more informa
 tion visit https://adamlambertstorm.com/events/adam-debuting-better-th
 an-i-know-myself-on-the-ellen-degeneres-sh
DTSTART;TZID=America/New_York:20120119T160000
DTEND;TZID=America/New_York:20120119T170000
CATEGORIES:television, show
LOCATION:\"Warner Studios\"
WEBSITE:
URL:
CONTACT:
ORGANIZER;CN=Barbls:https://adamlambertstorm.com/profile/BARBLS
ATTACH;FMTTYPE="image/jpeg":http://storage.ning.com/topology/rest/1.0/
 file/get/120049390?profile=original
ATTENDEE;ROLE=REQ-PARTICIPANT;PARTSTAT=ACCEPTED;RSVP=TRUE;CN=Barbls:ht
 tps://adamlambertstorm.com/profile/BARBLS
END:VEVENT
END:VCALENDAR
