BEGIN:VCALENDAR
PRODID:NingEventWidget-v1
VERSION:2.0
METHOD:PUBLISH
BEGIN:VTIMEZONE
TZID:America/New_York
X-LIC-LOCATION:America/New_York
BEGIN:DAYLIGHT
TZOFFSETFROM:-0500
TZOFFSETTO:-0400
TZNAME:EDT
DTSTART:19700308T020000
RRULE:FREQ=YEARLY;BYMONTH=3;BYDAY=2SU
END:DAYLIGHT
BEGIN:STANDARD
TZOFFSETFROM:-0400
TZOFFSETTO:-0500
TZNAME:EST
DTSTART:19701101T020000
RRULE:FREQ=YEARLY;BYMONTH=11;BYDAY=1SU
END:STANDARD
END:VTIMEZONE
BEGIN:VEVENT
UID:6419709:Event:46065
DTSTAMP:20260421T215107Z
SUMMARY:Adam Lamber AT Kirby Center Wilkes Barre, PA
DESCRIPTION:GLAMBERT COMES BACK\nAdam Lambert will return to the F.M. 
 Kirby Center (71 Public Square, Wilkes-Barre) Friday, May 25 at 7:30 p
 .m. The “American Idol” alum will be joined by special guests Neon
  Hitch and The Cab for this 98.5 KRZ-presented show.\n\nFor more infor
 mation visit https://adamlambertstorm.com/events/adam-lamber-at-kirby-
 center-wilkes-barre-pa
DTSTART;TZID=America/New_York:20120525T193000
DTEND;TZID=America/New_York:20120525T210000
CATEGORIES:radio, concert
LOCATION:Kirby Center Wilkes Barre, PA.
WEBSITE:http://www.kirbycenter.org/events/7rp/adam_lambert/
URL:http://www.kirbycenter.org/events/7rp/adam_lambert/
CONTACT:
ORGANIZER;CN=Barbls:https://adamlambertstorm.com/profile/BARBLS
ATTACH;FMTTYPE="image/jpeg":http://storage.ning.com/topology/rest/1.0/
 file/get/120050541?profile=original
ATTENDEE;ROLE=REQ-PARTICIPANT;PARTSTAT=ACCEPTED;RSVP=TRUE;CN=Barbls:ht
 tps://adamlambertstorm.com/profile/BARBLS
END:VEVENT
END:VCALENDAR
