BEGIN:VCALENDAR
PRODID:NingEventWidget-v1
VERSION:2.0
METHOD:PUBLISH
BEGIN:VTIMEZONE
TZID:America/New_York
X-LIC-LOCATION:America/New_York
BEGIN:DAYLIGHT
TZOFFSETFROM:-0500
TZOFFSETTO:-0400
TZNAME:EDT
DTSTART:19700308T020000
RRULE:FREQ=YEARLY;BYMONTH=3;BYDAY=2SU
END:DAYLIGHT
BEGIN:STANDARD
TZOFFSETFROM:-0400
TZOFFSETTO:-0500
TZNAME:EST
DTSTART:19701101T020000
RRULE:FREQ=YEARLY;BYMONTH=11;BYDAY=1SU
END:STANDARD
END:VTIMEZONE
BEGIN:VEVENT
UID:6419709:Event:45800
DTSTAMP:20260421T180111Z
SUMMARY:ADAM LAMBERT HEADLINES FRESHTIVAL!
DESCRIPTION:94.7 FRESH FM has just announced Adam Lambert the headline
 r for the first annual FRESHTIVAL at the Gaylord Hotel at National Har
 bor.\nFRESHTIVAL kicks off May 27th and is set to be a day of fun, foo
 d, and amazing performances. Scars on 45 will kick off the evening bef
 ore Lambert. Stick around for a prime fireworks viewing spot. More det
 ails to come.\n\nFor more information visit https://adamlambertstorm.c
 om/events/adam-lambert-headlines-freshtival
DTSTART;TZID=America/New_York:20120527T000000
DTEND;TZID=America/New_York:20120527T235900
CATEGORIES:radio, concert
LOCATION:Washington, DC
WEBSITE:http://947freshfm.cbslocal.com/2012/04/27/concert-adam-lambert
 -headlines-freshtival/
URL:http://947freshfm.cbslocal.com/2012/04/27/concert-adam-lambert-hea
 dlines-freshtival/
CONTACT:
ORGANIZER;CN=Barbls:https://adamlambertstorm.com/profile/BARBLS
ATTACH;FMTTYPE="image/jpeg":http://storage.ning.com/topology/rest/1.0/
 file/get/120050399?profile=original
ATTENDEE;ROLE=REQ-PARTICIPANT;PARTSTAT=ACCEPTED;RSVP=TRUE;CN="jj jacks
 on":https://adamlambertstorm.com/profile/jjjackson
ATTENDEE;ROLE=REQ-PARTICIPANT;PARTSTAT=ACCEPTED;RSVP=TRUE;CN=Barbls:ht
 tps://adamlambertstorm.com/profile/BARBLS
END:VEVENT
END:VCALENDAR
