BEGIN:VCALENDAR
PRODID:NingEventWidget-v1
VERSION:2.0
METHOD:PUBLISH
BEGIN:VTIMEZONE
TZID:America/New_York
X-LIC-LOCATION:America/New_York
BEGIN:DAYLIGHT
TZOFFSETFROM:-0500
TZOFFSETTO:-0400
TZNAME:EDT
DTSTART:19700308T020000
RRULE:FREQ=YEARLY;BYMONTH=3;BYDAY=2SU
END:DAYLIGHT
BEGIN:STANDARD
TZOFFSETFROM:-0400
TZOFFSETTO:-0500
TZNAME:EST
DTSTART:19701101T020000
RRULE:FREQ=YEARLY;BYMONTH=11;BYDAY=1SU
END:STANDARD
END:VTIMEZONE
BEGIN:VEVENT
UID:6419709:Event:39407
DTSTAMP:20260421T092112Z
SUMMARY:Adam Lambert's Release of New Single Better Thank I KNow Mysel
 f!
DESCRIPTION:Single to be released for digital download Tuesday Decembe
 r 20TH. You also can pre-order TRESPASSING from Adam's website,http:
 //www.AdamOfficial.com will also receive an instant MP3 download of h
 is new single \"Better Than I Know Myself.\"  Fans who pre-order from
  the store will also have first access to exclusive album configuratio
 ns and upgrades.\n\nFor more information visit https://adamlambertstor
 m.com/events/adam-lambert-s-release-of-new-single-better-thank-i-know-
 myself
DTSTART;TZID=America/New_York:20111220T000000
DTEND;TZID=America/New_York:20111220T235900
CATEGORIES:single, release
LOCATION:Everywhere You Can Digitally Download!!
WEBSITE:
URL:
CONTACT:
ORGANIZER;CN=Barbls:https://adamlambertstorm.com/profile/BARBLS
ATTACH;FMTTYPE="image/jpeg":http://storage.ning.com/topology/rest/1.0/
 file/get/120049352?profile=original
ATTENDEE;ROLE=REQ-PARTICIPANT;PARTSTAT=ACCEPTED;RSVP=TRUE;CN=Barbls:ht
 tps://adamlambertstorm.com/profile/BARBLS
END:VEVENT
END:VCALENDAR
