BEGIN:VCALENDAR
PRODID:NingEventWidget-v1
VERSION:2.0
METHOD:PUBLISH
BEGIN:VTIMEZONE
TZID:America/New_York
X-LIC-LOCATION:America/New_York
BEGIN:DAYLIGHT
TZOFFSETFROM:-0500
TZOFFSETTO:-0400
TZNAME:EDT
DTSTART:19700308T020000
RRULE:FREQ=YEARLY;BYMONTH=3;BYDAY=2SU
END:DAYLIGHT
BEGIN:STANDARD
TZOFFSETFROM:-0400
TZOFFSETTO:-0500
TZNAME:EST
DTSTART:19701101T020000
RRULE:FREQ=YEARLY;BYMONTH=11;BYDAY=1SU
END:STANDARD
END:VTIMEZONE
BEGIN:VEVENT
UID:6419709:Event:46024
DTSTAMP:20260421T195513Z
SUMMARY:ADAM LAMBERT'S TRESPASSING IS RELEASED IN U.S.
DESCRIPTION:Trespassing Is Released In the U.S. I hope every Fan Buys/
 Donates/Gifts to share this great album and Adam's music with everyone
 . It is A Great Day To Celebrate the Birth of Adam's baby called Tresp
 assing!!\n\nFor more information visit https://adamlambertstorm.com/ev
 ents/adam-lambert-s-trespassing-is-released-in-u-s
DTSTART;TZID=America/New_York:20120515T000000
DTEND;TZID=America/New_York:20120515T235900
CATEGORIES:album, is, released
LOCATION:United States
WEBSITE:http://adamlambertstorm.com/
URL:http://adamlambertstorm.com/
CONTACT:
ORGANIZER;CN=Barbls:https://adamlambertstorm.com/profile/BARBLS
ATTACH;FMTTYPE="image/jpeg":http://storage.ning.com/topology/rest/1.0/
 file/get/120050767?profile=original
ATTENDEE;ROLE=REQ-PARTICIPANT;PARTSTAT=ACCEPTED;RSVP=TRUE;CN=Barbls:ht
 tps://adamlambertstorm.com/profile/BARBLS
END:VEVENT
END:VCALENDAR
