BEGIN:VCALENDAR
PRODID:NingEventWidget-v1
VERSION:2.0
METHOD:PUBLISH
BEGIN:VTIMEZONE
TZID:America/New_York
X-LIC-LOCATION:America/New_York
BEGIN:DAYLIGHT
TZOFFSETFROM:-0500
TZOFFSETTO:-0400
TZNAME:EDT
DTSTART:19700308T020000
RRULE:FREQ=YEARLY;BYMONTH=3;BYDAY=2SU
END:DAYLIGHT
BEGIN:STANDARD
TZOFFSETFROM:-0400
TZOFFSETTO:-0500
TZNAME:EST
DTSTART:19701101T020000
RRULE:FREQ=YEARLY;BYMONTH=11;BYDAY=1SU
END:STANDARD
END:VTIMEZONE
BEGIN:VEVENT
UID:6419709:Event:46532
DTSTAMP:20260422T013006Z
SUMMARY:Adam On VH1 Big Morning Buzz
DESCRIPTION:Carrie Keagan hosts as Chris Colfer (FOX's Glee), Adam Lam
 bert, Gabe Saporta, Civil Twilight, and Dina &amp; Francesca Eastwood 
 stop by.\n\nFor more information visit https://adamlambertstorm.com/ev
 ents/adam-on-vh1-big-morning-buzz
DTSTART;TZID=America/New_York:20120514T100000
DTEND;TZID=America/New_York:20120514T110000
CATEGORIES:tv, show
LOCATION:VH1 Studio New York City
WEBSITE:http://www.vh1.com/shows/big_morning_buzz_live/series.jhtml
URL:http://www.vh1.com/shows/big_morning_buzz_live/series.jhtml
CONTACT:
ORGANIZER;CN=Barbls:https://adamlambertstorm.com/profile/BARBLS
ATTACH;FMTTYPE="image/jpeg":http://storage.ning.com/topology/rest/1.0/
 file/get/120051913?profile=original
ATTENDEE;ROLE=REQ-PARTICIPANT;PARTSTAT=ACCEPTED;RSVP=TRUE;CN=Barbls:ht
 tps://adamlambertstorm.com/profile/BARBLS
END:VEVENT
END:VCALENDAR
