BEGIN:VCALENDAR
PRODID:NingEventWidget-v1
VERSION:2.0
METHOD:PUBLISH
BEGIN:VTIMEZONE
TZID:America/New_York
X-LIC-LOCATION:America/New_York
BEGIN:DAYLIGHT
TZOFFSETFROM:-0500
TZOFFSETTO:-0400
TZNAME:EDT
DTSTART:19700308T020000
RRULE:FREQ=YEARLY;BYMONTH=3;BYDAY=2SU
END:DAYLIGHT
BEGIN:STANDARD
TZOFFSETFROM:-0400
TZOFFSETTO:-0500
TZNAME:EST
DTSTART:19701101T020000
RRULE:FREQ=YEARLY;BYMONTH=11;BYDAY=1SU
END:STANDARD
END:VTIMEZONE
BEGIN:VEVENT
UID:6419709:Event:46671
DTSTAMP:20260421T160825Z
SUMMARY:Adam performing at 2012 OC Fair - Pacific
DESCRIPTION:Adam Lambert\nThursday, July 19  On Sale May 18\nCOSTA MES
 A, CA--(Marketwire - May 15, 2012) - The OC Fair announces the return 
 of Adam Lambert and the last two concerts in The Hangar for the 20
 12 OC Fair (July 13-August 12).\nAdam Lambert will perform Thursday, 
 July 19 as part of the Toyota Summer Concert Series in the Pacific Am
 phiteatre at the 2012 OC Fair. Tickets are on sale May 19 HERE  Bu
 t hurry! Adam’s two sold out Pac Amp performances in 2010 were the f
 astest selling shows since the venue reopened in 2003. And the pre-sal
 e sold out within minutes on Adam's fan site this morning.\n\nFor more
  information visit https://adamlambertstorm.com/events/adam-performing
 -at-2012-oc-fair-pacific
DTSTART;TZID=America/New_York:20120719T194500
DTEND;TZID=America/New_York:20120719T210000
CATEGORIES:concert
LOCATION:\"Pacific Ampitheatre\"
WEBSITE:http://pacamp.com/pa/schedules/2012/adam_lambert.asp
URL:http://pacamp.com/pa/schedules/2012/adam_lambert.asp
CONTACT:(714) 708-1500
ORGANIZER;CN=Barbls:https://adamlambertstorm.com/profile/BARBLS
ATTACH;FMTTYPE="image/jpeg":http://storage.ning.com/topology/rest/1.0/
 file/get/120051962?profile=original
ATTENDEE;ROLE=REQ-PARTICIPANT;PARTSTAT=ACCEPTED;RSVP=TRUE;CN=Barbls:ht
 tps://adamlambertstorm.com/profile/BARBLS
END:VEVENT
END:VCALENDAR
