BEGIN:VCALENDAR
PRODID:NingEventWidget-v1
VERSION:2.0
METHOD:PUBLISH
BEGIN:VTIMEZONE
TZID:America/New_York
X-LIC-LOCATION:America/New_York
BEGIN:DAYLIGHT
TZOFFSETFROM:-0500
TZOFFSETTO:-0400
TZNAME:EDT
DTSTART:19700308T020000
RRULE:FREQ=YEARLY;BYMONTH=3;BYDAY=2SU
END:DAYLIGHT
BEGIN:STANDARD
TZOFFSETFROM:-0400
TZOFFSETTO:-0500
TZNAME:EST
DTSTART:19701101T020000
RRULE:FREQ=YEARLY;BYMONTH=11;BYDAY=1SU
END:STANDARD
END:VTIMEZONE
BEGIN:VEVENT
UID:6419709:Event:46177
DTSTAMP:20260421T214254Z
SUMMARY:ADAM Performing AT The MLB Fan Cave:
DESCRIPTION:ADAM Performing AT The MLB Fan Cave - Holds only 30 people
 . he show will be at 6:30PM at the MLB Fan Cave, at 4th Street and Bro
 adway\n\nFor more information visit https://adamlambertstorm.com/event
 s/adam-performing-at-the-mlb-fan-cave
DTSTART;TZID=America/New_York:20120514T183000
DTEND;TZID=America/New_York:20120514T200000
CATEGORIES:concert
LOCATION:MLB Fan Cave
WEBSITE:
URL:
CONTACT:
ORGANIZER;CN=Barbls:https://adamlambertstorm.com/profile/BARBLS
ATTACH;FMTTYPE="image/jpeg":http://storage.ning.com/topology/rest/1.0/
 file/get/120050658?profile=original
ATTENDEE;ROLE=REQ-PARTICIPANT;PARTSTAT=ACCEPTED;RSVP=TRUE;CN=Barbls:ht
 tps://adamlambertstorm.com/profile/BARBLS
END:VEVENT
END:VCALENDAR
