BEGIN:VCALENDAR
PRODID:NingEventWidget-v1
VERSION:2.0
METHOD:PUBLISH
BEGIN:VTIMEZONE
TZID:America/New_York
X-LIC-LOCATION:America/New_York
BEGIN:DAYLIGHT
TZOFFSETFROM:-0500
TZOFFSETTO:-0400
TZNAME:EDT
DTSTART:19700308T020000
RRULE:FREQ=YEARLY;BYMONTH=3;BYDAY=2SU
END:DAYLIGHT
BEGIN:STANDARD
TZOFFSETFROM:-0400
TZOFFSETTO:-0500
TZNAME:EST
DTSTART:19701101T020000
RRULE:FREQ=YEARLY;BYMONTH=11;BYDAY=1SU
END:STANDARD
END:VTIMEZONE
BEGIN:VEVENT
UID:6419709:Event:42143
DTSTAMP:20260421T105018Z
SUMMARY:Adam will be performing \"Better Than I Know Myself\" On The J
 ay Leno Show
DESCRIPTION:Adam Will be on Jay Leno's Tonight show performing his mos
 t fantastic Single \"Better Than I Know Myself.\" Possible ustream for
  International Fans at http://tvpc.com/Channel.php?ChannelID=6987\n\n\
 nFor more information visit https://adamlambertstorm.com/events/adam-w
 ill-be-performing-better-than-i-know-myself-on-the-jay-leno
DTSTART;TZID=America/New_York:20120117T233000
DTEND;TZID=America/New_York:20120118T003000
CATEGORIES:jay, "leno's", the, tonight, show
LOCATION:NBC Studios
WEBSITE:
URL:
CONTACT:
ORGANIZER;CN=Barbls:https://adamlambertstorm.com/profile/BARBLS
ATTACH;FMTTYPE="image/jpeg":http://storage.ning.com/topology/rest/1.0/
 file/get/120049604?profile=original
ATTENDEE;ROLE=REQ-PARTICIPANT;PARTSTAT=ACCEPTED;RSVP=TRUE;CN=Barbls:ht
 tps://adamlambertstorm.com/profile/BARBLS
END:VEVENT
END:VCALENDAR
