BEGIN:VCALENDAR
PRODID:NingEventWidget-v1
VERSION:2.0
METHOD:PUBLISH
BEGIN:VTIMEZONE
TZID:America/New_York
X-LIC-LOCATION:America/New_York
BEGIN:DAYLIGHT
TZOFFSETFROM:-0500
TZOFFSETTO:-0400
TZNAME:EDT
DTSTART:19700308T020000
RRULE:FREQ=YEARLY;BYMONTH=3;BYDAY=2SU
END:DAYLIGHT
BEGIN:STANDARD
TZOFFSETFROM:-0400
TZOFFSETTO:-0500
TZNAME:EST
DTSTART:19701101T020000
RRULE:FREQ=YEARLY;BYMONTH=11;BYDAY=1SU
END:STANDARD
END:VTIMEZONE
BEGIN:VEVENT
UID:6419709:Event:46666
DTSTAMP:20260421T155607Z
SUMMARY:Aliceâ€™s Summerthing 2012
DESCRIPTION:\n\nAliceâ€™s Summerthing 2012\nA Free Concert In Golden G
 ate Park\n\nFeaturingÂ Adam Lambert,Â Scars On 45, and more!\nArtistsÂ
  |Â ActivitiesÂ |Â CharityÂ |Â FAQsÂ |Â DirectionsÂ |RSVP On Facebook\
 n\nFor more information visit https://adamlambertstorm.com/events/alic
 e-s-summerthing-2012
DTSTART;TZID=America/New_York:20120624T120000
DTEND;TZID=America/New_York:20120624T160000
CATEGORIES:free, concert
LOCATION:\"Hellman Hollow - Golden Gate Park\"
WEBSITE:http://radioalice.cbslocal.com/show/alices-summerthing/
URL:http://radioalice.cbslocal.com/show/alices-summerthing/
CONTACT:800.400-3697
ORGANIZER;CN=Barbls:https://adamlambertstorm.com/profile/BARBLS
ATTACH;FMTTYPE="image/jpeg":http://storage.ning.com/topology/rest/1.0/
 file/get/120051926?profile=original
ATTENDEE;ROLE=REQ-PARTICIPANT;PARTSTAT=ACCEPTED;RSVP=TRUE;CN=Barbls:ht
 tps://adamlambertstorm.com/profile/BARBLS
END:VEVENT
END:VCALENDAR
