BEGIN:VCALENDAR
PRODID:NingEventWidget-v1
VERSION:2.0
METHOD:PUBLISH
BEGIN:VTIMEZONE
TZID:America/New_York
X-LIC-LOCATION:America/New_York
BEGIN:DAYLIGHT
TZOFFSETFROM:-0500
TZOFFSETTO:-0400
TZNAME:EDT
DTSTART:19700308T020000
RRULE:FREQ=YEARLY;BYMONTH=3;BYDAY=2SU
END:DAYLIGHT
BEGIN:STANDARD
TZOFFSETFROM:-0400
TZOFFSETTO:-0500
TZNAME:EST
DTSTART:19701101T020000
RRULE:FREQ=YEARLY;BYMONTH=11;BYDAY=1SU
END:STANDARD
END:VTIMEZONE
BEGIN:VEVENT
UID:6419709:Event:34714
DTSTAMP:20260421T060029Z
SUMMARY:'All On The Line'
DESCRIPTION:A Fashion Rehab show. This time Nicole Miller is among the
  designers who submits to the top-to-bottom audit from Elle creative d
 irector and series star Joe Zee.\nThe second season also will feature 
 even more boldface names and friends of Zee who help judge the designe
 rs’ progress. They include American designer Rachel Roy, American Id
 ol finalist Adam Lambert, Mark Badgley and James Mischka of Badgley M
 ishcka and model Veronica Webb.\"  Link To The Hollywood Reporter's A
 rticle\nAdam's Segment Airs December 9 on Sundance Channel 9:30 - 10:3
 0 pm ET  \n\nFor more information visit https://adamlambertstorm.com/
 events/all-on-the-line
DTSTART;TZID=America/New_York:20111209T213000
DTEND;TZID=America/New_York:20111209T223000
CATEGORIES:fashion, reab, show
LOCATION:Sundance Channel
WEBSITE:http://www.sundancechannel.com/sunfiltered/2011/11/joe-zee-you
 tube/
URL:http://www.sundancechannel.com/sunfiltered/2011/11/joe-zee-youtube
 /
CONTACT:
ORGANIZER;CN=Barbls:https://adamlambertstorm.com/profile/BARBLS
ATTACH;FMTTYPE="image/jpeg":http://storage.ning.com/topology/rest/1.0/
 file/get/120048736?profile=original
ATTENDEE;ROLE=REQ-PARTICIPANT;PARTSTAT=ACCEPTED;RSVP=TRUE;CN=Barbls:ht
 tps://adamlambertstorm.com/profile/BARBLS
END:VEVENT
END:VCALENDAR
