BEGIN:VCALENDAR
PRODID:NingEventWidget-v1
VERSION:2.0
METHOD:PUBLISH
BEGIN:VTIMEZONE
TZID:America/New_York
X-LIC-LOCATION:America/New_York
BEGIN:DAYLIGHT
TZOFFSETFROM:-0500
TZOFFSETTO:-0400
TZNAME:EDT
DTSTART:19700308T020000
RRULE:FREQ=YEARLY;BYMONTH=3;BYDAY=2SU
END:DAYLIGHT
BEGIN:STANDARD
TZOFFSETFROM:-0400
TZOFFSETTO:-0500
TZNAME:EST
DTSTART:19701101T020000
RRULE:FREQ=YEARLY;BYMONTH=11;BYDAY=1SU
END:STANDARD
END:VTIMEZONE
BEGIN:VEVENT
UID:6419709:Event:46406
DTSTAMP:20260421T214611Z
SUMMARY:American Idol - Adam Lambert Performing Never Close Our Eyes
DESCRIPTION:Adam will be Returning to American Idol to Perform his new
  Single Never Close Our Eyes\n\nFor more information visit https://ada
 mlambertstorm.com/events/american-idol-adam-lambert-performing-never-c
 lose-our-eyes
DTSTART;TZID=America/New_York:20120517T200000
DTEND;TZID=America/New_York:20120517T210000
CATEGORIES:television, show
LOCATION:American Ido
WEBSITE:http://www.americanidol.com/
URL:http://www.americanidol.com/
CONTACT:
ORGANIZER;CN=Barbls:https://adamlambertstorm.com/profile/BARBLS
ATTACH;FMTTYPE="image/jpeg":http://storage.ning.com/topology/rest/1.0/
 file/get/120052152?profile=original
ATTENDEE;ROLE=REQ-PARTICIPANT;PARTSTAT=ACCEPTED;RSVP=TRUE;CN=Barbls:ht
 tps://adamlambertstorm.com/profile/BARBLS
END:VEVENT
END:VCALENDAR
