BEGIN:VCALENDAR
PRODID:NingEventWidget-v1
VERSION:2.0
METHOD:PUBLISH
BEGIN:VTIMEZONE
TZID:America/New_York
X-LIC-LOCATION:America/New_York
BEGIN:DAYLIGHT
TZOFFSETFROM:-0500
TZOFFSETTO:-0400
TZNAME:EDT
DTSTART:19700308T020000
RRULE:FREQ=YEARLY;BYMONTH=3;BYDAY=2SU
END:DAYLIGHT
BEGIN:STANDARD
TZOFFSETFROM:-0400
TZOFFSETTO:-0500
TZNAME:EST
DTSTART:19701101T020000
RRULE:FREQ=YEARLY;BYMONTH=11;BYDAY=1SU
END:STANDARD
END:VTIMEZONE
BEGIN:VEVENT
UID:6419709:Event:3376
DTSTAMP:20260421T090019Z
SUMMARY:DO SOMETHING AWARDS
DESCRIPTION:Thursday, August 18, 2011 @ 9/8c Location: Los Angeles, Ca
 lifornia\n DoSomething.org and VH1 have once again partnered to presen
 t The Do Something Awards to honor young people's commitment to social
  change. The Do Something Awards will be taped at the Hollywood Pallad
 ium in Los Angeles and premiere Thursday, August 18th, 2011 at 9/8c on
  VH1. Emmy and Golden Globe winner Jane Lynch will return to host the 
 star-studded telecast for a second year.\n\nFor more information visit
  https://adamlambertstorm.com/events/do-something-awards
DTSTART;TZID=America/New_York:20110818T210000
DTEND;TZID=America/New_York:20110818T230000
CATEGORIES:awards, show
LOCATION:Los Angeles, CA
WEBSITE:http://www.dosomething.org/programs/awards
URL:http://www.dosomething.org/programs/awards
CONTACT:
ORGANIZER;CN=Barbls:https://adamlambertstorm.com/profile/BARBLS
ATTACH;FMTTYPE="image/jpeg":http://storage.ning.com/topology/rest/1.0/
 file/get/120047413?profile=original
ATTENDEE;ROLE=REQ-PARTICIPANT;PARTSTAT=ACCEPTED;RSVP=TRUE;CN=Barbls:ht
 tps://adamlambertstorm.com/profile/BARBLS
END:VEVENT
END:VCALENDAR
