BEGIN:VCALENDAR
PRODID:NingEventWidget-v1
VERSION:2.0
METHOD:PUBLISH
BEGIN:VTIMEZONE
TZID:America/New_York
X-LIC-LOCATION:America/New_York
BEGIN:DAYLIGHT
TZOFFSETFROM:-0500
TZOFFSETTO:-0400
TZNAME:EDT
DTSTART:19700308T020000
RRULE:FREQ=YEARLY;BYMONTH=3;BYDAY=2SU
END:DAYLIGHT
BEGIN:STANDARD
TZOFFSETFROM:-0400
TZOFFSETTO:-0500
TZNAME:EST
DTSTART:19701101T020000
RRULE:FREQ=YEARLY;BYMONTH=11;BYDAY=1SU
END:STANDARD
END:VTIMEZONE
BEGIN:VEVENT
UID:6419709:Event:47264
DTSTAMP:20260421T161941Z
SUMMARY:Elton, Queen and Adam: KIEV Fight Against Aids
DESCRIPTION:june 30, 2012 in Kiev at the Independence Square will be a
  grand charity concert dedicated to the fight against AIDS. At the sce
 ne will leave friends and colleagues of Elena Pinchuk, \"ANTIAIDS\" in
  the fight against AIDS, the legendary musicians - Sir Elton John and 
 the band Queen and Adam Promo For Kiev\n\nFor more information visit h
 ttps://adamlambertstorm.com/events/elton-queen-and-adam-kiev-fight-aga
 inst-aids
DTSTART;TZID=America/New_York:20120630T000000
DTEND;TZID=America/New_York:20120630T235900
CATEGORIES:charity, concert
LOCATION:Independence Square
WEBSITE:
URL:
CONTACT:
ORGANIZER;CN=Barbls:https://adamlambertstorm.com/profile/BARBLS
ATTACH;FMTTYPE="image/jpeg":http://storage.ning.com/topology/rest/1.0/
 file/get/120052200?profile=original
ATTENDEE;ROLE=REQ-PARTICIPANT;PARTSTAT=ACCEPTED;RSVP=TRUE;CN=Barbls:ht
 tps://adamlambertstorm.com/profile/BARBLS
END:VEVENT
END:VCALENDAR
