BEGIN:VCALENDAR
PRODID:NingEventWidget-v1
VERSION:2.0
METHOD:PUBLISH
BEGIN:VTIMEZONE
TZID:America/New_York
X-LIC-LOCATION:America/New_York
BEGIN:DAYLIGHT
TZOFFSETFROM:-0500
TZOFFSETTO:-0400
TZNAME:EDT
DTSTART:19700308T020000
RRULE:FREQ=YEARLY;BYMONTH=3;BYDAY=2SU
END:DAYLIGHT
BEGIN:STANDARD
TZOFFSETFROM:-0400
TZOFFSETTO:-0500
TZNAME:EST
DTSTART:19701101T020000
RRULE:FREQ=YEARLY;BYMONTH=11;BYDAY=1SU
END:STANDARD
END:VTIMEZONE
BEGIN:VEVENT
UID:6419709:Event:43413
DTSTAMP:20260421T155627Z
SUMMARY:Entertainment Tonight Canada
DESCRIPTION:Saw a commercial tonight for Entertainment Tonight Canada 
 for next week. Adam will be on it. Not sure which night - but definite
 ly next week. He was mentioned first, so perhaps Monday? We'll have to
  check it out.\n\nFor more information visit https://adamlambertstorm.
 com/events/entertainment-tonight-canada
DTSTART;TZID=America/New_York:20120121T180000
DTEND;TZID=America/New_York:20120121T190000
CATEGORIES:tv, appearance
LOCATION:Unsure
WEBSITE:
URL:
CONTACT:
ORGANIZER;CN=Kat:https://adamlambertstorm.com/profile/KatherineCox
ATTACH;FMTTYPE="image/jpeg":
ATTENDEE;ROLE=REQ-PARTICIPANT;PARTSTAT=ACCEPTED;RSVP=TRUE;CN=Kat:https
 ://adamlambertstorm.com/profile/KatherineCox
END:VEVENT
END:VCALENDAR
