BEGIN:VCALENDAR
PRODID:NingEventWidget-v1
VERSION:2.0
METHOD:PUBLISH
BEGIN:VTIMEZONE
TZID:America/New_York
X-LIC-LOCATION:America/New_York
BEGIN:DAYLIGHT
TZOFFSETFROM:-0500
TZOFFSETTO:-0400
TZNAME:EDT
DTSTART:19700308T020000
RRULE:FREQ=YEARLY;BYMONTH=3;BYDAY=2SU
END:DAYLIGHT
BEGIN:STANDARD
TZOFFSETFROM:-0400
TZOFFSETTO:-0500
TZNAME:EST
DTSTART:19701101T020000
RRULE:FREQ=YEARLY;BYMONTH=11;BYDAY=1SU
END:STANDARD
END:VTIMEZONE
BEGIN:VEVENT
UID:6419709:Event:45902
DTSTAMP:20260421T194506Z
SUMMARY:FANTABULOSO - 103.5MF
DESCRIPTION:FANTABULOSO featuring Enrique Iglesias, The Wanted, B.o.B.
 , Cobra Starship, Gym Class Heroes, Dev, Havana Brown, Neon Hitch and 
 more LIVE Friday, May 18that the Allstate Arena!\n\n\nFor more informa
 tion visit https://adamlambertstorm.com/events/fantabuloso-103-5mf
DTSTART;TZID=America/New_York:20120518T173000
DTEND;TZID=America/New_York:20120518T200000
CATEGORIES:radio, concert
LOCATION:Allstate Arena, Rosemont, IL
WEBSITE:http://www.1035kissfm.com/cc-common/contests/index.html?id=177
 548#ixzz1rmTwhSZ5
URL:http://www.1035kissfm.com/cc-common/contests/index.html?id=177548#
 ixzz1rmTwhSZ5
CONTACT:
ORGANIZER;CN=Barbls:https://adamlambertstorm.com/profile/BARBLS
ATTACH;FMTTYPE="image/jpeg":http://storage.ning.com/topology/rest/1.0/
 file/get/120050525?profile=original
ATTENDEE;ROLE=REQ-PARTICIPANT;PARTSTAT=ACCEPTED;RSVP=TRUE;CN=Barbls:ht
 tps://adamlambertstorm.com/profile/BARBLS
END:VEVENT
END:VCALENDAR
