BEGIN:VCALENDAR
PRODID:NingEventWidget-v1
VERSION:2.0
METHOD:PUBLISH
BEGIN:VTIMEZONE
TZID:America/New_York
X-LIC-LOCATION:America/New_York
BEGIN:DAYLIGHT
TZOFFSETFROM:-0500
TZOFFSETTO:-0400
TZNAME:EDT
DTSTART:19700308T020000
RRULE:FREQ=YEARLY;BYMONTH=3;BYDAY=2SU
END:DAYLIGHT
BEGIN:STANDARD
TZOFFSETFROM:-0400
TZOFFSETTO:-0500
TZNAME:EST
DTSTART:19701101T020000
RRULE:FREQ=YEARLY;BYMONTH=11;BYDAY=1SU
END:STANDARD
END:VTIMEZONE
BEGIN:VEVENT
UID:6419709:Event:46676
DTSTAMP:20260421T161223Z
SUMMARY:Fantasy Springs
DESCRIPTION:A Return Engagement Where Adam Gave Us The Sexiest Whole L
 otta Love and A Concert to end all Concerts. This is definitely a Glam
 ily Affair!!\n \nThey are asking if we'd like to have another Glamily
  reunion. Please tweet them @FantasySprings saying YES to #2ndGlami
 lyReunion \n \nTickets will go on sale on June 8th at 10am at ticke
 ts.com\nRooms can be booked here, or over the phone (888) 476-1526\n
  \n \n\nFor more information visit https://adamlambertstorm.com/even
 ts/fantasy-springs
DTSTART;TZID=America/New_York:20120721T200000
DTEND;TZID=America/New_York:20120721T210000
CATEGORIES:concert
LOCATION:\"Fantasy Springs\"
WEBSITE:http://www.fantasyspringsresort.com/prod/home/index.php
URL:http://www.fantasyspringsresort.com/prod/home/index.php
CONTACT:+1 760 342 5000
ORGANIZER;CN=Barbls:https://adamlambertstorm.com/profile/BARBLS
ATTACH;FMTTYPE="image/jpeg":http://storage.ning.com/topology/rest/1.0/
 file/get/120051929?profile=original
ATTENDEE;ROLE=REQ-PARTICIPANT;PARTSTAT=ACCEPTED;RSVP=TRUE;CN="Catharin
 e June":https://adamlambertstorm.com/profile/CatharineJune
ATTENDEE;ROLE=REQ-PARTICIPANT;PARTSTAT=ACCEPTED;RSVP=TRUE;CN=Barbls:ht
 tps://adamlambertstorm.com/profile/BARBLS
END:VEVENT
END:VCALENDAR
