BEGIN:VCALENDAR
PRODID:NingEventWidget-v1
VERSION:2.0
METHOD:PUBLISH
BEGIN:VTIMEZONE
TZID:America/New_York
X-LIC-LOCATION:America/New_York
BEGIN:DAYLIGHT
TZOFFSETFROM:-0500
TZOFFSETTO:-0400
TZNAME:EDT
DTSTART:19700308T020000
RRULE:FREQ=YEARLY;BYMONTH=3;BYDAY=2SU
END:DAYLIGHT
BEGIN:STANDARD
TZOFFSETFROM:-0400
TZOFFSETTO:-0500
TZNAME:EST
DTSTART:19701101T020000
RRULE:FREQ=YEARLY;BYMONTH=11;BYDAY=1SU
END:STANDARD
END:VTIMEZONE
BEGIN:VEVENT
UID:6419709:Event:43134
DTSTAMP:20260421T192534Z
SUMMARY:Flaunt Magazine Pre-Order
DESCRIPTION:FAULT is pleased to announce a special offer to mark the 
 launch of our 10th issue, to be released on March 31st.  Although th
 e issue will not be available for regular pre-orders until early March
 , we will be offering readers the chance to place a deposit for this i
 ssue from today. The link for for this deposit is available to all tho
 se who ‘like’ the FAULT Facebook page.\nFor every 500 fans who pl
 ace a deposit on the issue, we will reduce its price by £1.50, up to 
 a minimum order price of £4.50 (not including P&P). This offer will 
 last until mid-March, thereafter everyone who placed a deposit will be
  notified of the final price of the issue (with a link to pay the outs
 tanding balance) via email.\n*Please note, this offer only applies to 
 single online orders placed through our partners at www.booksmagazine
 setc.com . All deposits are non-refundable. Please place 1 deposit pe
 r copy you wish to order. Subscribers are not affected by this offer.*
 \nThe theme for this Issue is LEGACY and will feature…Adam on the 
 cover and six pages inside…!\nPre-order here http://fault-magazine.
 com/tag/fault-magazine-issue-10/\n\nFor more information visit https:/
 /adamlambertstorm.com/events/flaunt-magazine-pre-order
DTSTART;TZID=America/New_York:20120130T180000
DTEND;TZID=America/New_York:20120315T190000
CATEGORIES:magazine, preorder
LOCATION:Online
WEBSITE:http://fault-magazine.com/tag…
URL:http://fault-magazine.com/tag…
CONTACT:
ORGANIZER;CN=Barbls:https://adamlambertstorm.com/profile/BARBLS
ATTACH;FMTTYPE="image/jpeg":http://storage.ning.com/topology/rest/1.0/
 file/get/120049652?profile=original
ATTENDEE;ROLE=REQ-PARTICIPANT;PARTSTAT=ACCEPTED;RSVP=TRUE;CN=Barbls:ht
 tps://adamlambertstorm.com/profile/BARBLS
END:VEVENT
END:VCALENDAR
