BEGIN:VCALENDAR
PRODID:NingEventWidget-v1
VERSION:2.0
METHOD:PUBLISH
BEGIN:VTIMEZONE
TZID:America/New_York
X-LIC-LOCATION:America/New_York
BEGIN:DAYLIGHT
TZOFFSETFROM:-0500
TZOFFSETTO:-0400
TZNAME:EDT
DTSTART:19700308T020000
RRULE:FREQ=YEARLY;BYMONTH=3;BYDAY=2SU
END:DAYLIGHT
BEGIN:STANDARD
TZOFFSETFROM:-0400
TZOFFSETTO:-0500
TZNAME:EST
DTSTART:19701101T020000
RRULE:FREQ=YEARLY;BYMONTH=11;BYDAY=1SU
END:STANDARD
END:VTIMEZONE
BEGIN:VEVENT
UID:6419709:Event:48286
DTSTAMP:20260421T180237Z
SUMMARY:Guerilla Gig in Melbourne
DESCRIPTION:More on the event at auspOp and https://www.facebook.com/v
 music.com.au\n\nFor more information visit https://adamlambertstorm.co
 m/events/guerilla-gig-in-melbourne
DTSTART;TZID=America/New_York:20120826T153000
DTEND;TZID=America/New_York:20120826T163000
CATEGORIES:guerilla, gig
LOCATION:[V] Music - Channel [V] Australia
WEBSITE:http://www.vmusic.com.au/guerilla-gigs-sponsored-by-vw
URL:http://www.vmusic.com.au/guerilla-gigs-sponsored-by-vw
CONTACT:
ORGANIZER;CN=Barbls:https://adamlambertstorm.com/profile/BARBLS
ATTACH;FMTTYPE="image/jpeg":http://storage.ning.com/topology/rest/1.0/
 file/get/120052412?profile=original
ATTENDEE;ROLE=REQ-PARTICIPANT;PARTSTAT=ACCEPTED;RSVP=TRUE;CN=Barbls:ht
 tps://adamlambertstorm.com/profile/BARBLS
END:VEVENT
END:VCALENDAR
