BEGIN:VCALENDAR
PRODID:NingEventWidget-v1
VERSION:2.0
METHOD:PUBLISH
BEGIN:VTIMEZONE
TZID:America/New_York
X-LIC-LOCATION:America/New_York
BEGIN:DAYLIGHT
TZOFFSETFROM:-0500
TZOFFSETTO:-0400
TZNAME:EDT
DTSTART:19700308T020000
RRULE:FREQ=YEARLY;BYMONTH=3;BYDAY=2SU
END:DAYLIGHT
BEGIN:STANDARD
TZOFFSETFROM:-0400
TZOFFSETTO:-0500
TZNAME:EST
DTSTART:19701101T020000
RRULE:FREQ=YEARLY;BYMONTH=11;BYDAY=1SU
END:STANDARD
END:VTIMEZONE
BEGIN:VEVENT
UID:6419709:Event:45820
DTSTAMP:20260422T031630Z
SUMMARY:JImmy Kimmel's Outdoor Mini-Concert
DESCRIPTION:Adam Lambert performing at Jimmy Kimmel's Outdoor Mini-Con
 cert April 26th 6:45 pm. Get Tickets Now!!\n\nFor more information vis
 it https://adamlambertstorm.com/events/jimmy-kimmel-s-outdoor-mini-con
 cert
DTSTART;TZID=America/New_York:20120426T184500
DTEND;TZID=America/New_York:20120426T193000
CATEGORIES:mini-concert
LOCATION:ABC Los Angeles, CA
WEBSITE:http://www.1iota.com/show/view/Jimmy_Kimmel_Live
URL:http://www.1iota.com/show/view/Jimmy_Kimmel_Live
CONTACT:
ORGANIZER;CN=Barbls:https://adamlambertstorm.com/profile/BARBLS
ATTACH;FMTTYPE="image/jpeg":http://storage.ning.com/topology/rest/1.0/
 file/get/120050472?profile=original
ATTENDEE;ROLE=REQ-PARTICIPANT;PARTSTAT=ACCEPTED;RSVP=TRUE;CN=Barbls:ht
 tps://adamlambertstorm.com/profile/BARBLS
END:VEVENT
END:VCALENDAR
