BEGIN:VCALENDAR
PRODID:NingEventWidget-v1
VERSION:2.0
METHOD:PUBLISH
BEGIN:VTIMEZONE
TZID:America/New_York
X-LIC-LOCATION:America/New_York
BEGIN:DAYLIGHT
TZOFFSETFROM:-0500
TZOFFSETTO:-0400
TZNAME:EDT
DTSTART:19700308T020000
RRULE:FREQ=YEARLY;BYMONTH=3;BYDAY=2SU
END:DAYLIGHT
BEGIN:STANDARD
TZOFFSETFROM:-0400
TZOFFSETTO:-0500
TZNAME:EST
DTSTART:19701101T020000
RRULE:FREQ=YEARLY;BYMONTH=11;BYDAY=1SU
END:STANDARD
END:VTIMEZONE
BEGIN:VEVENT
UID:6419709:Event:45549
DTSTAMP:20260421T194607Z
SUMMARY:Kiss Concert 2012!
DESCRIPTION:The show is Saturday, May 19th at the Comcast Center in Ma
 nsfield, MA\nLine-up\nKiss 108 Concert 2012\nAdam Lambert\nGym Class H
 eroes\nFlo Rida\nEnrique Iglesias\nThe Wanted\nHot Chelle Rae\nAndy Gr
 ammer\nOutasight\nNeon Hitch\nCarly Rae Jepsen\nKarmin\nJojo\nSammy Ad
 ams\nAdam Lambert Gym Class Heroes\nSam Adams\n\n\n\n\nFor more inform
 ation visit https://adamlambertstorm.com/events/kiss-concert-2012
DTSTART;TZID=America/New_York:20120519T060000
DTEND;TZID=America/New_York:20120519T210000
CATEGORIES:radio, concert
LOCATION:Comcast Center Maansfield, MA
WEBSITE:http://www.kiss108.com/pages/KC2012/#ixzz1rKBpW5ZL
URL:http://www.kiss108.com/pages/KC2012/#ixzz1rKBpW5ZL
CONTACT:
ORGANIZER;CN=Barbls:https://adamlambertstorm.com/profile/BARBLS
ATTACH;FMTTYPE="image/jpeg":http://storage.ning.com/topology/rest/1.0/
 file/get/120050275?profile=original
ATTENDEE;ROLE=REQ-PARTICIPANT;PARTSTAT=ACCEPTED;RSVP=TRUE;CN=Barbls:ht
 tps://adamlambertstorm.com/profile/BARBLS
END:VEVENT
END:VCALENDAR
