BEGIN:VCALENDAR
PRODID:NingEventWidget-v1
VERSION:2.0
METHOD:PUBLISH
BEGIN:VTIMEZONE
TZID:America/New_York
X-LIC-LOCATION:America/New_York
BEGIN:DAYLIGHT
TZOFFSETFROM:-0500
TZOFFSETTO:-0400
TZNAME:EDT
DTSTART:19700308T020000
RRULE:FREQ=YEARLY;BYMONTH=3;BYDAY=2SU
END:DAYLIGHT
BEGIN:STANDARD
TZOFFSETFROM:-0400
TZOFFSETTO:-0500
TZNAME:EST
DTSTART:19701101T020000
RRULE:FREQ=YEARLY;BYMONTH=11;BYDAY=1SU
END:STANDARD
END:VTIMEZONE
BEGIN:VEVENT
UID:6419709:Event:45294
DTSTAMP:20260421T200638Z
SUMMARY:KTU's KTUphoria - New York/New Jersey
DESCRIPTION:Sunday, May 20, 2012\nPregame on the Plaza: 3pm Doors: 5pm
    Show: 6pm\n\n\nFlo Rida\nAdam Lambert\nDev\nCalvin Harris\nK'NAAN
 \nKarmin\nHavana Brown\nspecial guest Enrique Iglesias\n\n\nPlus: More
  to Come\n\n\nFor more information visit https://adamlambertstorm.com/
 events/ktu-s-ktuphoria-new-york-new-jersey
DTSTART;TZID=America/New_York:20120520T180000
DTEND;TZID=America/New_York:20120520T200000
CATEGORIES:radio, concert
LOCATION:PNCBANK Arts Center, Exit 116, Garden State Pkwy, Holmdel, NJ
   07733
WEBSITE:http://www.ktu.com/pages/events/ktuphoria/2012/#ixzz1rKJPuTcC
URL:http://www.ktu.com/pages/events/ktuphoria/2012/#ixzz1rKJPuTcC
CONTACT:
ORGANIZER;CN=Barbls:https://adamlambertstorm.com/profile/BARBLS
ATTACH;FMTTYPE="image/jpeg":http://storage.ning.com/topology/rest/1.0/
 file/get/120050426?profile=original
ATTENDEE;ROLE=REQ-PARTICIPANT;PARTSTAT=ACCEPTED;RSVP=TRUE;CN=Barbls:ht
 tps://adamlambertstorm.com/profile/BARBLS
END:VEVENT
END:VCALENDAR
