BEGIN:VCALENDAR
PRODID:NingEventWidget-v1
VERSION:2.0
METHOD:PUBLISH
BEGIN:VTIMEZONE
TZID:America/New_York
X-LIC-LOCATION:America/New_York
BEGIN:DAYLIGHT
TZOFFSETFROM:-0500
TZOFFSETTO:-0400
TZNAME:EDT
DTSTART:19700308T020000
RRULE:FREQ=YEARLY;BYMONTH=3;BYDAY=2SU
END:DAYLIGHT
BEGIN:STANDARD
TZOFFSETFROM:-0400
TZOFFSETTO:-0500
TZNAME:EST
DTSTART:19701101T020000
RRULE:FREQ=YEARLY;BYMONTH=11;BYDAY=1SU
END:STANDARD
END:VTIMEZONE
BEGIN:VEVENT
UID:6419709:Event:4020
DTSTAMP:20260421T073310Z
SUMMARY:LIAM MCEWAN'S ADAM LAMBERT HOUR
DESCRIPTION:For those that do not know Liam McEwan is a 16 year old DJ
  from NZ who has a 1hour Radio program dedicated to Adam's Music every
  Sunday 11am-12pm! (NZ Time), which is Saturday 5 pm U.S. EST/2 pm PST
 . Adam Fans take to Twitter to have a lovefest and Party to Adam's mus
 ic. Please join us on Twitter to listen and tweet about Adam's music. 
 You will not be sorry!!!\n\nFor more information visit https://adamlam
 bertstorm.com/events/liam-mcewan-s-adam-lambert-hou
DTSTART;TZID=America/New_York:20111217T170000
DTEND;TZID=America/New_York:20111217T180000
CATEGORIES:radio, music, hour
LOCATION:Radio Station
WEBSITE:http://www.theflea.co.nz
URL:http://www.theflea.co.nz
CONTACT:
ORGANIZER;CN=Barbls:https://adamlambertstorm.com/profile/BARBLS
ATTACH;FMTTYPE="image/jpeg":http://storage.ning.com/topology/rest/1.0/
 file/get/120047410?profile=original
ATTENDEE;ROLE=REQ-PARTICIPANT;PARTSTAT=ACCEPTED;RSVP=TRUE;CN=Barbls:ht
 tps://adamlambertstorm.com/profile/BARBLS
END:VEVENT
END:VCALENDAR
