BEGIN:VCALENDAR
PRODID:NingEventWidget-v1
VERSION:2.0
METHOD:PUBLISH
BEGIN:VTIMEZONE
TZID:America/New_York
X-LIC-LOCATION:America/New_York
BEGIN:DAYLIGHT
TZOFFSETFROM:-0500
TZOFFSETTO:-0400
TZNAME:EDT
DTSTART:19700308T020000
RRULE:FREQ=YEARLY;BYMONTH=3;BYDAY=2SU
END:DAYLIGHT
BEGIN:STANDARD
TZOFFSETFROM:-0400
TZOFFSETTO:-0500
TZNAME:EST
DTSTART:19701101T020000
RRULE:FREQ=YEARLY;BYMONTH=11;BYDAY=1SU
END:STANDARD
END:VTIMEZONE
BEGIN:VEVENT
UID:6419709:Event:44371
DTSTAMP:20260422T012059Z
SUMMARY:LOGO's 2012 NEWNEXTNOW AWARDS
DESCRIPTION:NEWNEXTNOW AWARDS W/ Kelly Osburne Hosting & Adam Lambert 
 Performing. UStream available 4 int'l fans & all who need it Monday at
  7:00 pm PT http://www.ustream.tv/channel/coralmermaid\nThe show will 
 also honor one timeless pop icon with the “Always Next, Forever Now 
 Award” for their lasting, and astounding, legacy. So vote for your f
 avorites and tune in to Logo Monday, April 9, 10 PM ET/9Cto see who wi
 ll win big and join the ranks of other NewNowNext award winners like L
 ady Gaga, True Blood and Britney Spears. This is one awards show that 
 is beyond trends.\n\nFor more information visit https://adamlambertsto
 rm.com/events/logo-s-2012-newnextnow-awards
DTSTART;TZID=America/New_York:20120409T220000
DTEND;TZID=America/New_York:20120409T230000
CATEGORIES:tv, awards, program
LOCATION:LOGO TV
WEBSITE:http://www.newnownext.com/awards/2012/
URL:http://www.newnownext.com/awards/2012/
CONTACT:
ORGANIZER;CN=Barbls:https://adamlambertstorm.com/profile/BARBLS
ATTACH;FMTTYPE="image/jpeg":http://storage.ning.com/topology/rest/1.0/
 file/get/120050417?profile=original
ATTENDEE;ROLE=REQ-PARTICIPANT;PARTSTAT=ACCEPTED;RSVP=TRUE;CN=Barbls:ht
 tps://adamlambertstorm.com/profile/BARBLS
END:VEVENT
END:VCALENDAR
