BEGIN:VCALENDAR
PRODID:NingEventWidget-v1
VERSION:2.0
METHOD:PUBLISH
BEGIN:VTIMEZONE
TZID:America/New_York
X-LIC-LOCATION:America/New_York
BEGIN:DAYLIGHT
TZOFFSETFROM:-0500
TZOFFSETTO:-0400
TZNAME:EDT
DTSTART:19700308T020000
RRULE:FREQ=YEARLY;BYMONTH=3;BYDAY=2SU
END:DAYLIGHT
BEGIN:STANDARD
TZOFFSETFROM:-0400
TZOFFSETTO:-0500
TZNAME:EST
DTSTART:19701101T020000
RRULE:FREQ=YEARLY;BYMONTH=11;BYDAY=1SU
END:STANDARD
END:VTIMEZONE
BEGIN:VEVENT
UID:6419709:Event:13001
DTSTAMP:20260421T104651Z
SUMMARY:Los Angeles Equality Awards
DESCRIPTION:Adam is one of the Honorees along with Facebook and NYAsse
 mblyman Daniel O'Donnell, who sponsored the Marriage Equality Act in N
 Y.\n\nFor more information visit https://adamlambertstorm.com/events/l
 os-angeles-equality-awards
DTSTART;TZID=America/New_York:20110813T173000
DTEND;TZID=America/New_York:20110813T190000
CATEGORIES:awards
LOCATION:The Beverly Hilton
WEBSITE:http://www.eqca.org/site/pp.asp?c=kuLRJ9MRKrH&b=6538387
URL:http://www.eqca.org/site/pp.asp?c=kuLRJ9MRKrH&b=6538387
CONTACT:
ORGANIZER;CN=Barbls:https://adamlambertstorm.com/profile/BARBLS
ATTACH;FMTTYPE="image/jpeg":http://storage.ning.com/topology/rest/1.0/
 file/get/120047574?profile=original
ATTENDEE;ROLE=REQ-PARTICIPANT;PARTSTAT=ACCEPTED;RSVP=TRUE;CN=Barbls:ht
 tps://adamlambertstorm.com/profile/BARBLS
END:VEVENT
END:VCALENDAR
