BEGIN:VCALENDAR
PRODID:NingEventWidget-v1
VERSION:2.0
METHOD:PUBLISH
BEGIN:VTIMEZONE
TZID:America/New_York
X-LIC-LOCATION:America/New_York
BEGIN:DAYLIGHT
TZOFFSETFROM:-0500
TZOFFSETTO:-0400
TZNAME:EDT
DTSTART:19700308T020000
RRULE:FREQ=YEARLY;BYMONTH=3;BYDAY=2SU
END:DAYLIGHT
BEGIN:STANDARD
TZOFFSETFROM:-0400
TZOFFSETTO:-0500
TZNAME:EST
DTSTART:19701101T020000
RRULE:FREQ=YEARLY;BYMONTH=11;BYDAY=1SU
END:STANDARD
END:VTIMEZONE
BEGIN:VEVENT
UID:6419709:Event:44456
DTSTAMP:20260421T211807Z
SUMMARY:MARCH 12 through 16, 2012 Event
DESCRIPTION:March 12: TV, Japan. MTV Japan “MTV Obizarus #221″ 19:
 00-20:00 Japan time w/repeats. [More info] March 12: Radio, US. 97.1 W
 ash-FM Washington, DC. Win tickets to upcoming event. [More Info] Marc
 h 12: Radio, US. 99.5 Hot, Washington, DC. Listen to win! [More Info] 
 March 12: Radio, US. 94.7 Fresh FM, Washington DC. [Source | More Info
 ] March 12: Radio, US. MIX 107.3 Washington DC. Performance and Meet&G
 reet. [More Info] March 13: Radio, US. Lite 100.5 Hartford, CT. “See
  Adam live in Hartford Tuesday, March 13th at 6pm in an exclusive conc
 ert!” [More Info] March 13: Radio, US. KISS 95.7 and KC 101.3 Hartfo
 rd, CT Performance [kiss957 | KC101 | Source] March 13: Radio, US. 96.
 5TIC Hartford, CT. Acoustic Cafe performance. [Source] March: Radio, U
 S. 94.7 WMAS Springfield MA. Meet and Greet [More Info] March 14: Radi
 o, US. 104.5 WXLO Worcester, Ma. “XLO Music Loft performance at Pinz
  in 110 South St in Milford, MA.” [More Info] March 14: Radio, US. K
 iss 108 Boston, MA. Kiss 2012 Concert Announcement Party! Hosted by Ad
 am & others. [More Info] March 14: Radio, US. MIX 104.1 Boston, MA. Pe
 rformance at Mix Lounge/Lansdowne Pub. [More Info] March 16: Radio, US
 . Lite 93.9 Chicago, IL. Performance at the Coca-Cola Lounge [Source] 
 March 16: Better Than I Know Myself audio CD released in Germany. [Sou
 rce] March 16: Better Than I Know Myself audio CD released in Austria.
  [Source]\n\nFor more information visit https://adamlambertstorm.com/e
 vents/march-12-through-16-2012-event
DTSTART;TZID=America/New_York:20120312T180000
DTEND;TZID=America/New_York:20120312T190000
CATEGORIES:radio, promotion
LOCATION:Radio Stations
WEBSITE:
URL:
CONTACT:
ORGANIZER;CN=Barbls:https://adamlambertstorm.com/profile/BARBLS
ATTACH;FMTTYPE="image/jpeg":http://storage.ning.com/topology/rest/1.0/
 file/get/120049948?profile=original
ATTENDEE;ROLE=REQ-PARTICIPANT;PARTSTAT=ACCEPTED;RSVP=TRUE;CN=Barbls:ht
 tps://adamlambertstorm.com/profile/BARBLS
END:VEVENT
END:VCALENDAR
