BEGIN:VCALENDAR
PRODID:NingEventWidget-v1
VERSION:2.0
METHOD:PUBLISH
BEGIN:VTIMEZONE
TZID:America/New_York
X-LIC-LOCATION:America/New_York
BEGIN:DAYLIGHT
TZOFFSETFROM:-0500
TZOFFSETTO:-0400
TZNAME:EDT
DTSTART:19700308T020000
RRULE:FREQ=YEARLY;BYMONTH=3;BYDAY=2SU
END:DAYLIGHT
BEGIN:STANDARD
TZOFFSETFROM:-0400
TZOFFSETTO:-0500
TZNAME:EST
DTSTART:19701101T020000
RRULE:FREQ=YEARLY;BYMONTH=11;BYDAY=1SU
END:STANDARD
END:VTIMEZONE
BEGIN:VEVENT
UID:6419709:Event:3535
DTSTAMP:20260421T073147Z
SUMMARY:MTV's TALK@PLAYGROUND
DESCRIPTION:MTV's Talk@Playground - Videos of Adam Lambert and Johnny 
 Cota Are Now Available at Talk@Playground\nSeptember 9, 2011 to Septem
 ber 9, 2011 \n \n\nFor more information visit https://adamlambertstor
 m.com/events/mtv-s-talk-playground
DTSTART;TZID=America/New_York:20110909T000000
DTEND;TZID=America/New_York:20110909T235900
CATEGORIES:online
LOCATION:MTV
WEBSITE:http://www.talkatplayground.com/?locale=gb&p=8
URL:http://www.talkatplayground.com/?locale=gb&p=8
CONTACT:
ORGANIZER;CN=Barbls:https://adamlambertstorm.com/profile/BARBLS
ATTACH;FMTTYPE="image/jpeg":http://storage.ning.com/topology/rest/1.0/
 file/get/120047408?profile=original
ATTENDEE;ROLE=REQ-PARTICIPANT;PARTSTAT=ACCEPTED;RSVP=TRUE;CN=Barbls:ht
 tps://adamlambertstorm.com/profile/BARBLS
ATTENDEE;ROLE=REQ-PARTICIPANT;PARTSTAT=ACCEPTED;RSVP=TRUE;CN=AdamEyesd
 :https://adamlambertstorm.com/profile/AdamEyesd
END:VEVENT
END:VCALENDAR
