BEGIN:VCALENDAR
PRODID:NingEventWidget-v1
VERSION:2.0
METHOD:PUBLISH
BEGIN:VTIMEZONE
TZID:America/New_York
X-LIC-LOCATION:America/New_York
BEGIN:DAYLIGHT
TZOFFSETFROM:-0500
TZOFFSETTO:-0400
TZNAME:EDT
DTSTART:19700308T020000
RRULE:FREQ=YEARLY;BYMONTH=3;BYDAY=2SU
END:DAYLIGHT
BEGIN:STANDARD
TZOFFSETFROM:-0400
TZOFFSETTO:-0500
TZNAME:EST
DTSTART:19701101T020000
RRULE:FREQ=YEARLY;BYMONTH=11;BYDAY=1SU
END:STANDARD
END:VTIMEZONE
BEGIN:VEVENT
UID:6419709:Event:25719
DTSTAMP:20260421T060121Z
SUMMARY:Project Runway!!!
DESCRIPTION:Adam is on Project Runway Thursday September\n\nFor more i
 nformation visit https://adamlambertstorm.com/events/project-runway
DTSTART;TZID=America/New_York:20110922T210000
DTEND;TZID=America/New_York:20110922T220000
CATEGORIES:tv, reality, show
LOCATION:Lifetime Channel
WEBSITE:http://www.mylifetime.com/shows/project-runway/video?cmpid=LTD
 _SEM_Search-project%2Brunway-project%2Brunway&utm_source=ltd_google&ut
 m_medium=cpc&utm_campaign=project%20runway&utm_term=project%20runway
URL:http://www.mylifetime.com/shows/project-runway/video?cmpid=LTD_SEM
 _Search-project%2Brunway-project%2Brunway&utm_source=ltd_google&utm_me
 dium=cpc&utm_campaign=project%20runway&utm_term=project%20runway
CONTACT:
ORGANIZER;CN=Barbls:https://adamlambertstorm.com/profile/BARBLS
ATTACH;FMTTYPE="image/jpeg":http://storage.ning.com/topology/rest/1.0/
 file/get/120048063?profile=original
ATTENDEE;ROLE=REQ-PARTICIPANT;PARTSTAT=ACCEPTED;RSVP=TRUE;CN=Barbls:ht
 tps://adamlambertstorm.com/profile/BARBLS
END:VEVENT
END:VCALENDAR
