BEGIN:VCALENDAR
PRODID:NingEventWidget-v1
VERSION:2.0
METHOD:PUBLISH
BEGIN:VTIMEZONE
TZID:America/New_York
X-LIC-LOCATION:America/New_York
BEGIN:DAYLIGHT
TZOFFSETFROM:-0500
TZOFFSETTO:-0400
TZNAME:EDT
DTSTART:19700308T020000
RRULE:FREQ=YEARLY;BYMONTH=3;BYDAY=2SU
END:DAYLIGHT
BEGIN:STANDARD
TZOFFSETFROM:-0400
TZOFFSETTO:-0500
TZNAME:EST
DTSTART:19701101T020000
RRULE:FREQ=YEARLY;BYMONTH=11;BYDAY=1SU
END:STANDARD
END:VTIMEZONE
BEGIN:VEVENT
UID:6419709:Event:45453
DTSTAMP:20260421T194506Z
SUMMARY:Q102's Springle Ball 2012
DESCRIPTION:Q102's Springle Ball 2012 Tuesday, May 22nd Wells Fargo Ce
 nter\nAll your favorite artists will be in philly to hit the stage fea
 turing Hot Chelle, Cody Simpson, Flo Rida, Train, Carly Rae Jepson, Au
 stin Mahone, The Wanted, Adam Lambert, Calvin Harris, Chiddy Bang, Chr
 is Rene and Enrique Iglesias!\n\nFor more information visit https://ad
 amlambertstorm.com/events/q102-s-springle-ball-2012
DTSTART;TZID=America/New_York:20120522T180000
DTEND;TZID=America/New_York:20120522T200000
CATEGORIES:radio, concert
LOCATION:Wells Fargo Center - Philadelphia, PA
WEBSITE:http://www.q102.com/pages/events/springle-ball/#ixzz1rKKb4ipL
URL:http://www.q102.com/pages/events/springle-ball/#ixzz1rKKb4ipL
CONTACT:
ORGANIZER;CN=Barbls:https://adamlambertstorm.com/profile/BARBLS
ATTACH;FMTTYPE="image/jpeg":http://storage.ning.com/topology/rest/1.0/
 file/get/120050387?profile=original
ATTENDEE;ROLE=REQ-PARTICIPANT;PARTSTAT=ACCEPTED;RSVP=TRUE;CN=Barbls:ht
 tps://adamlambertstorm.com/profile/BARBLS
END:VEVENT
END:VCALENDAR
