BEGIN:VCALENDAR
PRODID:NingEventWidget-v1
VERSION:2.0
METHOD:PUBLISH
BEGIN:VTIMEZONE
TZID:America/New_York
X-LIC-LOCATION:America/New_York
BEGIN:DAYLIGHT
TZOFFSETFROM:-0500
TZOFFSETTO:-0400
TZNAME:EDT
DTSTART:19700308T020000
RRULE:FREQ=YEARLY;BYMONTH=3;BYDAY=2SU
END:DAYLIGHT
BEGIN:STANDARD
TZOFFSETFROM:-0400
TZOFFSETTO:-0500
TZNAME:EST
DTSTART:19701101T020000
RRULE:FREQ=YEARLY;BYMONTH=11;BYDAY=1SU
END:STANDARD
END:VTIMEZONE
BEGIN:VEVENT
UID:6419709:Event:43242
DTSTAMP:20260421T174220Z
SUMMARY:QSNOWCASE
DESCRIPTION:Adam's Acoustical Performance at the QSnowcase in Austria 
 - Performance and Interviews will be Live Streamed.\nINTERVIEWS (Lives
 tream):\nThere will be TWO interviews. Here are the EXACT times for th
 e interviews (local times) as tweeted by @AdamlambertBE.\nQmusicBe 11:
 30 - 12:00 Livestream Link: http://q-music.be/home\nQ NL 12:00 - 12:30
  Livestream Link: http://www.q-music.nl/page/splash4\nPERFORMANCE (Liv
 estream):\n8:30pm - 9pm: Start of the livestream with the performances
 . We don't know an exact time when Adam's set is on. Link: http://q-mu
 sic.be/home AND http://www.q-music.nl/page/splash4\nWORLD CLOCKS:\nFor
  the FIRST interview: NOTE: The time calculated on this clock is for 1
 2 Noon and the interview starts at 11:30 AM so please adjust according
 ly. This is the best clock I could find.\nhttp://www.timeanddate.com/w
 orldclock/fixedtime.html?msg=Adam+Lambert+%2...\nThe SECOND interview 
 stream on the other site starts right after this one.\nFor the Live Pe
 rformances:\nhttp://www.timeanddate.com/worldclock/fixedtime.html?msg=
 Livestream+Qsno...\nIf anyone still has some questions, just send them
  to me and I'll try to answer them. @AdamLambertBE\n\nFor more informa
 tion visit https://adamlambertstorm.com/events/qsnowcase
DTSTART;TZID=America/New_York:20120129T203000
DTEND;TZID=America/New_York:20120129T210000
CATEGORIES:acoustical, performance
LOCATION:QSnowcase Austria
WEBSITE:
URL:
CONTACT:
ORGANIZER;CN=Barbls:https://adamlambertstorm.com/profile/BARBLS
ATTACH;FMTTYPE="image/jpeg":http://storage.ning.com/topology/rest/1.0/
 file/get/120049703?profile=original
ATTENDEE;ROLE=REQ-PARTICIPANT;PARTSTAT=ACCEPTED;RSVP=TRUE;CN=Barbls:ht
 tps://adamlambertstorm.com/profile/BARBLS
END:VEVENT
END:VCALENDAR
