BEGIN:VCALENDAR
PRODID:NingEventWidget-v1
VERSION:2.0
METHOD:PUBLISH
BEGIN:VTIMEZONE
TZID:America/New_York
X-LIC-LOCATION:America/New_York
BEGIN:DAYLIGHT
TZOFFSETFROM:-0500
TZOFFSETTO:-0400
TZNAME:EDT
DTSTART:19700308T020000
RRULE:FREQ=YEARLY;BYMONTH=3;BYDAY=2SU
END:DAYLIGHT
BEGIN:STANDARD
TZOFFSETFROM:-0400
TZOFFSETTO:-0500
TZNAME:EST
DTSTART:19701101T020000
RRULE:FREQ=YEARLY;BYMONTH=11;BYDAY=1SU
END:STANDARD
END:VTIMEZONE
BEGIN:VEVENT
UID:6419709:Event:46927
DTSTAMP:20260421T174522Z
SUMMARY:Queen + Adam Lambert Poland Show
DESCRIPTION:Rock Festival in WroclawÂ this is your first real rock fes
 tival events.Â Was conceived as a cyclical event, where both the icons
  will be presented to the most popular bands of Polish and internation
 al scene.Â As early as 7 July 2012 at Municipal Stadium in Wroclaw wil
 l be the first edition of the festival, which will play one of the bes
 t rock bands the world - theÂ QueenÂ .Â Hear the greatest hits perform
 ed by Brian May and Roger Taylor, Queen of musicians and composers who
  are invited to cooperate with Adam Lambert - Finalist 8 edition of \"
 American Idol\" - a singer with a remarkable voice and a large scale.Â
  Wroclaw concert, the first from Polish publicznnoÅ›ciÄ…, is also one 
 of the few that announced to the artists.\nWe can be confident that th
 e show, which will consist of the greatest hits of the group, unusual 
 light fitting and the media, will certainly be a great musical event.Â
  This show has always been a showcase of the Queen, who still is consi
 dered one of the greatest teams of the last century and an icon of wor
 ld rock.\n\nConcert by Queen and Adam Lambert will be preceded by spec
 ial foreign guest and a team of IRA with a special birthday concert, s
 tarring the guests invited by the team.\n\n\n\n\nThe event takes place
  in Wroclaw's Municipal Stadium - a great arena ELITE class, which pro
 vides world-class spectacle and a whole new level of emotion.Â events 
 are organized by the Municipal Stadium in Wroclaw, Dynamicom and Music
 art.  Tickets for the Polish show are on sale now atÂ www.rockinwrocla
 w.plÂ andÂ www.ticketteam.com.pl.\nÂ \n\nFor more information visit ht
 tps://adamlambertstorm.com/events/queen-adam-lambert-poland-show-added
 -by-vicky-aka-vickstix
DTSTART;TZID=America/New_York:20120707T160000
DTEND;TZID=America/New_York:20120707T200000
CATEGORIES:rock, festival
LOCATION:\"Municipal Stadium in Wroclaw\"
WEBSITE:http://www.rockinwroclaw.pl/
URL:http://www.rockinwroclaw.pl/
CONTACT:
ORGANIZER;CN=Barbls:https://adamlambertstorm.com/profile/BARBLS
ATTACH;FMTTYPE="image/jpeg":http://storage.ning.com/topology/rest/1.0/
 file/get/120052064?profile=original
ATTENDEE;ROLE=REQ-PARTICIPANT;PARTSTAT=ACCEPTED;RSVP=TRUE;CN=Barbls:ht
 tps://adamlambertstorm.com/profile/BARBLS
END:VEVENT
END:VCALENDAR
