BEGIN:VCALENDAR
PRODID:NingEventWidget-v1
VERSION:2.0
METHOD:PUBLISH
BEGIN:VTIMEZONE
TZID:America/New_York
X-LIC-LOCATION:America/New_York
BEGIN:DAYLIGHT
TZOFFSETFROM:-0500
TZOFFSETTO:-0400
TZNAME:EDT
DTSTART:19700308T020000
RRULE:FREQ=YEARLY;BYMONTH=3;BYDAY=2SU
END:DAYLIGHT
BEGIN:STANDARD
TZOFFSETFROM:-0400
TZOFFSETTO:-0500
TZNAME:EST
DTSTART:19701101T020000
RRULE:FREQ=YEARLY;BYMONTH=11;BYDAY=1SU
END:STANDARD
END:VTIMEZONE
BEGIN:VEVENT
UID:6419709:Event:46931
DTSTAMP:20260421T155607Z
SUMMARY:Queen + Adam Lambert - UK
DESCRIPTION:QUEEN today announced that they will add a third London co
 ncert with Adam Lambert at HMV Hammersmith Apollo in July. The band's 
 two dates at the venue - July 11 and 12 - hastily added after the canc
 ellation of Sonisphere, sold out instantly.  Promoter Paul Roberts con
 firmed the two earlier London shows sold out 'within minutes'.  Queen 
 and Adam Lambert's third date will take place Saturday July 14. Ticket
 s go on sale on at 9.00am on Monday, May 14.\n\nFor more information v
 isit https://adamlambertstorm.com/events/queen-adam-lambert-uk
DTSTART;TZID=America/New_York:20120714T200000
DTEND;TZID=America/New_York:20120714T220000
CATEGORIES:concert
LOCATION:\"hmv Hammersmith Apollo\"
WEBSITE:http://venues.meanfiddler.com/apollo/full-listings/?tickets_se
 arch_value=&tickets_view_type=list&tickets_search_date=2012-7
URL:http://venues.meanfiddler.com/apollo/full-listings/?tickets_search
 _value=&tickets_view_type=list&tickets_search_date=2012-7
CONTACT:0844-875-8758
ORGANIZER;CN=Barbls:https://adamlambertstorm.com/profile/BARBLS
ATTACH;FMTTYPE="image/jpeg":http://storage.ning.com/topology/rest/1.0/
 file/get/120052054?profile=original
ATTENDEE;ROLE=REQ-PARTICIPANT;PARTSTAT=ACCEPTED;RSVP=TRUE;CN=Barbls:ht
 tps://adamlambertstorm.com/profile/BARBLS
END:VEVENT
END:VCALENDAR
