BEGIN:VCALENDAR
PRODID:NingEventWidget-v1
VERSION:2.0
METHOD:PUBLISH
BEGIN:VTIMEZONE
TZID:America/New_York
X-LIC-LOCATION:America/New_York
BEGIN:DAYLIGHT
TZOFFSETFROM:-0500
TZOFFSETTO:-0400
TZNAME:EDT
DTSTART:19700308T020000
RRULE:FREQ=YEARLY;BYMONTH=3;BYDAY=2SU
END:DAYLIGHT
BEGIN:STANDARD
TZOFFSETFROM:-0400
TZOFFSETTO:-0500
TZNAME:EST
DTSTART:19701101T020000
RRULE:FREQ=YEARLY;BYMONTH=11;BYDAY=1SU
END:STANDARD
END:VTIMEZONE
BEGIN:VEVENT
UID:6419709:Event:45679
DTSTAMP:20260421T155644Z
SUMMARY:Queen +Adam - London
DESCRIPTION:\nQueen will perform with Adam Lambert at the London HMV H
 ammersmith Apollo on the 11th and 12th of July 2012. These two shows h
 ave been organized by the band so that the fans would not be let down 
 by the cancellation of the festival. In a nice gesture, those who were
  ticket holders of the Sonisphere Festival at Knebworth will be invite
 d to the presale, along with members of Queen’s fanclub. They will g
 ain access 24 hours before the tickets go on general sale. The presale
  will take place on the 17th of April with the generale sale being run
  on the 18th of April at 9am.  SOLD OUT\n\nFor more information visit
  https://adamlambertstorm.com/events/queen-adam-london
DTSTART;TZID=America/New_York:20120711T200000
DTEND;TZID=America/New_York:20120712T220000
CATEGORIES:concerts
LOCATION:\"hmv Hammersmith Apollo\"
WEBSITE:http://venues.meanfiddler.com/apollo/full-listings/featured/68
 79/queen-+-adam-lambert-ticketsLLO
URL:http://venues.meanfiddler.com/apollo/full-listings/featured/6879/q
 ueen-+-adam-lambert-ticketsLLO
CONTACT:
ORGANIZER;CN=Barbls:https://adamlambertstorm.com/profile/BARBLS
ATTACH;FMTTYPE="image/jpeg":http://storage.ning.com/topology/rest/1.0/
 file/get/120050492?profile=original
ATTENDEE;ROLE=REQ-PARTICIPANT;PARTSTAT=ACCEPTED;RSVP=TRUE;CN=Barbls:ht
 tps://adamlambertstorm.com/profile/BARBLS
END:VEVENT
END:VCALENDAR
