BEGIN:VCALENDAR
PRODID:NingEventWidget-v1
VERSION:2.0
METHOD:PUBLISH
BEGIN:VTIMEZONE
TZID:America/New_York
X-LIC-LOCATION:America/New_York
BEGIN:DAYLIGHT
TZOFFSETFROM:-0500
TZOFFSETTO:-0400
TZNAME:EDT
DTSTART:19700308T020000
RRULE:FREQ=YEARLY;BYMONTH=3;BYDAY=2SU
END:DAYLIGHT
BEGIN:STANDARD
TZOFFSETFROM:-0400
TZOFFSETTO:-0500
TZNAME:EST
DTSTART:19701101T020000
RRULE:FREQ=YEARLY;BYMONTH=11;BYDAY=1SU
END:STANDARD
END:VTIMEZONE
BEGIN:VEVENT
UID:6419709:Event:46662
DTSTAMP:20260421T162056Z
SUMMARY:RAYS OF SUNSHINE CONCERT
DESCRIPTION:JLS, Leona Lewis, Adam Lambert, Pixie Lott, Conor May
 nard, StooShe, Diversity,Spelbound and special guests perform at th
 e Rays of Sunshine Concert.\nTickets for the show on sale now.\nThe p
 roceeds will go towards the Rays Of Sunshine Children's Charity, which
  grants wishes for seriously ill youngsters in the UK aged 3-18 years 
 old.  The organization granted its first wish back in 2004 and has gon
 e on to grant over 2,000 wishes, along with hosting a number of entert
 aining events and hospital activities.  Meanwhile, Adam Lambert will r
 elease his second album Trespassing in the UK on July 2. Leona Lewis
  is expected to release her third studio set later this year.\n\nFor m
 ore information visit https://adamlambertstorm.com/events/rays-of-suns
 hine-concertjls-leona-lewis-adam-lambert-pixie-lott-c
DTSTART;TZID=America/New_York:20120607T193000
DTEND;TZID=America/New_York:20120607T230000
CATEGORIES:concert
LOCATION:\"Royal Albert Hall\"
WEBSITE:
URL:
CONTACT:
ORGANIZER;CN=Barbls:https://adamlambertstorm.com/profile/BARBLS
ATTACH;FMTTYPE="image/jpeg":http://storage.ning.com/topology/rest/1.0/
 file/get/120051924?profile=original
ATTENDEE;ROLE=REQ-PARTICIPANT;PARTSTAT=ACCEPTED;RSVP=TRUE;CN=Barbls:ht
 tps://adamlambertstorm.com/profile/BARBLS
END:VEVENT
END:VCALENDAR
