BEGIN:VCALENDAR
PRODID:NingEventWidget-v1
VERSION:2.0
METHOD:PUBLISH
BEGIN:VTIMEZONE
TZID:America/New_York
X-LIC-LOCATION:America/New_York
BEGIN:DAYLIGHT
TZOFFSETFROM:-0500
TZOFFSETTO:-0400
TZNAME:EDT
DTSTART:19700308T020000
RRULE:FREQ=YEARLY;BYMONTH=3;BYDAY=2SU
END:DAYLIGHT
BEGIN:STANDARD
TZOFFSETFROM:-0400
TZOFFSETTO:-0500
TZNAME:EST
DTSTART:19701101T020000
RRULE:FREQ=YEARLY;BYMONTH=11;BYDAY=1SU
END:STANDARD
END:VTIMEZONE
BEGIN:VEVENT
UID:6419709:Event:47934
DTSTAMP:20260421T161544Z
SUMMARY:Six Flags Fiesta Texas Concert
DESCRIPTION:\nÂ Coca-ColaÂ® Presents Adam Lambert at Six Flags Fiesta 
 Texas! He takes the stage and rocks out at the park on Thursday, July 
 26th. The concert is free with park admission and will begin at 6 PM.Â
   Concert tickets are available on a first-come, first-serve basis on 
 concert day while supplies last.\n\nFor more information visit https:/
 /adamlambertstorm.com/events/six-flags-fiesta-texas-concert
DTSTART;TZID=America/New_York:20120726T180000
DTEND;TZID=America/New_York:20120726T210000
CATEGORIES:concert
LOCATION:San Antonio, TX
WEBSITE:
URL:
CONTACT:
ORGANIZER;CN=Barbls:https://adamlambertstorm.com/profile/BARBLS
ATTACH;FMTTYPE="image/jpeg":http://storage.ning.com/topology/rest/1.0/
 file/get/120052349?profile=original
ATTENDEE;ROLE=REQ-PARTICIPANT;PARTSTAT=ACCEPTED;RSVP=TRUE;CN=Barbls:ht
 tps://adamlambertstorm.com/profile/BARBLS
END:VEVENT
END:VCALENDAR
