BEGIN:VCALENDAR
PRODID:NingEventWidget-v1
VERSION:2.0
METHOD:PUBLISH
BEGIN:VTIMEZONE
TZID:America/New_York
X-LIC-LOCATION:America/New_York
BEGIN:DAYLIGHT
TZOFFSETFROM:-0500
TZOFFSETTO:-0400
TZNAME:EDT
DTSTART:19700308T020000
RRULE:FREQ=YEARLY;BYMONTH=3;BYDAY=2SU
END:DAYLIGHT
BEGIN:STANDARD
TZOFFSETFROM:-0400
TZOFFSETTO:-0500
TZNAME:EST
DTSTART:19701101T020000
RRULE:FREQ=YEARLY;BYMONTH=11;BYDAY=1SU
END:STANDARD
END:VTIMEZONE
BEGIN:VEVENT
UID:6419709:Event:48124
DTSTAMP:20260421T161601Z
SUMMARY:STAR 102.5 All Star Summer Concert
DESCRIPTION:\n\nFor more information visit https://adamlambertstorm.co
 m/events/star-102-5-all-star-summer-concert
DTSTART;TZID=America/New_York:20120728T130000
DTEND;TZID=America/New_York:20120728T170000
CATEGORIES:concert
LOCATION:Waterworks Park, Des Moines, IA
WEBSITE:http://www.last.fm/event/3293737+STAR+102.5+All+Star+Summer+Co
 ncert
URL:http://www.last.fm/event/3293737+STAR+102.5+All+Star+Summer+Concer
 t
CONTACT:
ORGANIZER;CN=Barbls:https://adamlambertstorm.com/profile/BARBLS
ATTACH;FMTTYPE="image/jpeg":http://storage.ning.com/topology/rest/1.0/
 file/get/120052277?profile=original
ATTENDEE;ROLE=REQ-PARTICIPANT;PARTSTAT=ACCEPTED;RSVP=TRUE;CN=Barbls:ht
 tps://adamlambertstorm.com/profile/BARBLS
END:VEVENT
END:VCALENDAR
