BEGIN:VCALENDAR
PRODID:NingEventWidget-v1
VERSION:2.0
METHOD:PUBLISH
BEGIN:VTIMEZONE
TZID:America/New_York
X-LIC-LOCATION:America/New_York
BEGIN:DAYLIGHT
TZOFFSETFROM:-0500
TZOFFSETTO:-0400
TZNAME:EDT
DTSTART:19700308T020000
RRULE:FREQ=YEARLY;BYMONTH=3;BYDAY=2SU
END:DAYLIGHT
BEGIN:STANDARD
TZOFFSETFROM:-0400
TZOFFSETTO:-0500
TZNAME:EST
DTSTART:19701101T020000
RRULE:FREQ=YEARLY;BYMONTH=11;BYDAY=1SU
END:STANDARD
END:VTIMEZONE
BEGIN:VEVENT
UID:6419709:Event:45629
DTSTAMP:20260421T174245Z
SUMMARY:Summer Sonic 2012 Osaka & Tokyo
DESCRIPTION:The Summer Sonic Festival is an annual two or day Rock Fes
 tival held at the same time in Osaka and Tokyo\n\n\nFor more informati
 on visit https://adamlambertstorm.com/events/summer-sonic-2012-osaka-t
 okyo
DTSTART;TZID=America/New_York:20120818T000000
DTEND;TZID=America/New_York:20120819T235900
CATEGORIES:summer, concerts
LOCATION:\"QVC Marine Field (ex. Marine Stadium)\"
WEBSITE:http://www.summersonic.com/2012/
URL:http://www.summersonic.com/2012/
CONTACT:
ORGANIZER;CN=Barbls:https://adamlambertstorm.com/profile/BARBLS
ATTACH;FMTTYPE="image/jpeg":http://storage.ning.com/topology/rest/1.0/
 file/get/120051938?profile=original
ATTENDEE;ROLE=REQ-PARTICIPANT;PARTSTAT=ACCEPTED;RSVP=TRUE;CN=Barbls:ht
 tps://adamlambertstorm.com/profile/BARBLS
END:VEVENT
END:VCALENDAR
