BEGIN:VCALENDAR
PRODID:NingEventWidget-v1
VERSION:2.0
METHOD:PUBLISH
BEGIN:VTIMEZONE
TZID:America/New_York
X-LIC-LOCATION:America/New_York
BEGIN:DAYLIGHT
TZOFFSETFROM:-0500
TZOFFSETTO:-0400
TZNAME:EDT
DTSTART:19700308T020000
RRULE:FREQ=YEARLY;BYMONTH=3;BYDAY=2SU
END:DAYLIGHT
BEGIN:STANDARD
TZOFFSETFROM:-0400
TZOFFSETTO:-0500
TZNAME:EST
DTSTART:19701101T020000
RRULE:FREQ=YEARLY;BYMONTH=11;BYDAY=1SU
END:STANDARD
END:VTIMEZONE
BEGIN:VEVENT
UID:6419709:Event:46182
DTSTAMP:20260421T233013Z
SUMMARY:The Billboard Live Q&A
DESCRIPTION:Not that Adam Lambert is ever idle, but now is an especial
 ly busy time for the \"American Idol\" alum as he prepares for the May
  15 release of his second album, \"Trespassing,\" an upcoming performa
 nce on \"Idol\" on May 17, and a run of European concert dates in July
  with Queen (!). To celebrate all of this activity, Lambert will stop 
 by Billboard.com's studios for a Live Q&A on Monday, May 14 at 3 p.m. 
 ET, just one day before \"Trespassing\" is officially released! \n  L
 ambert Performs 'Naked Love' on 'Kimmel' | Queen + Adam Lambert Playin
 g Shows This Summer\n \nIn equally exciting news, Adam will be answer
 ing fan questions live on camera during the Q&A, so tweet what you wan
 t to know about his busy life to @Billboard using hashtag #BBAdam. And
  be sure to come back to this page on May 14 to watch the Live Q&A.\n\
 nFor more information visit https://adamlambertstorm.com/events/the-bi
 llboard-live-q-a
DTSTART;TZID=America/New_York:20120514T150000
DTEND;TZID=America/New_York:20120514T160000
CATEGORIES:question, "&", answer
LOCATION:Billboard Magazine
WEBSITE:http://www.billboard.com/events/adam-lambert-live-q-a-may-14-a
 t-3pm-et-1007006952.story#/events/adam-lambert-live-q-a-may-14-at-3pm-
 et-1007006952.story
URL:http://www.billboard.com/events/adam-lambert-live-q-a-may-14-at-3p
 m-et-1007006952.story#/events/adam-lambert-live-q-a-may-14-at-3pm-et-1
 007006952.story
CONTACT:
ORGANIZER;CN=Barbls:https://adamlambertstorm.com/profile/BARBLS
ATTACH;FMTTYPE="image/jpeg":http://storage.ning.com/topology/rest/1.0/
 file/get/120051908?profile=original
ATTENDEE;ROLE=REQ-PARTICIPANT;PARTSTAT=ACCEPTED;RSVP=TRUE;CN=Barbls:ht
 tps://adamlambertstorm.com/profile/BARBLS
END:VEVENT
END:VCALENDAR
