BEGIN:VCALENDAR
PRODID:NingEventWidget-v1
VERSION:2.0
METHOD:PUBLISH
BEGIN:VTIMEZONE
TZID:America/New_York
X-LIC-LOCATION:America/New_York
BEGIN:DAYLIGHT
TZOFFSETFROM:-0500
TZOFFSETTO:-0400
TZNAME:EDT
DTSTART:19700308T020000
RRULE:FREQ=YEARLY;BYMONTH=3;BYDAY=2SU
END:DAYLIGHT
BEGIN:STANDARD
TZOFFSETFROM:-0400
TZOFFSETTO:-0500
TZNAME:EST
DTSTART:19701101T020000
RRULE:FREQ=YEARLY;BYMONTH=11;BYDAY=1SU
END:STANDARD
END:VTIMEZONE
BEGIN:VEVENT
UID:6419709:Event:46750
DTSTAMP:20260421T124139Z
SUMMARY:The F Word Featuring Adam Lambert
DESCRIPTION:MC's new original show, \"The F Word,\" gives you the insi
 de scoop on what it's like to be famous -- and everything that comes w
 ith it. We're about to uncover how your favorite artists handle it. Ch
 eck out our premiere episode featuring \"American Idol\" alum Adam Lam
 bert when it debuts on Monday, June 11th only on MC On Demand! #MCFWor
 d - http://www.youtube.com/user/MusicChoiceOnDemand\n\n\nFor more info
 rmation visit https://adamlambertstorm.com/events/the-f-word-featuring
 -adam-lambert
DTSTART;TZID=America/New_York:20120611T000000
DTEND;TZID=America/New_York:20120611T235900
CATEGORIES:new, original, show
LOCATION:Los Angeles, CA
WEBSITE:http://www.youtube.com/watch?v=mCkWCNStpn4&feature=youtu.be
URL:http://www.youtube.com/watch?v=mCkWCNStpn4&feature=youtu.be
CONTACT:
ORGANIZER;CN=Barbls:https://adamlambertstorm.com/profile/BARBLS
ATTACH;FMTTYPE="image/jpeg":http://storage.ning.com/topology/rest/1.0/
 file/get/120051975?profile=original
ATTENDEE;ROLE=REQ-PARTICIPANT;PARTSTAT=ACCEPTED;RSVP=TRUE;CN=Barbls:ht
 tps://adamlambertstorm.com/profile/BARBLS
END:VEVENT
END:VCALENDAR
