BEGIN:VCALENDAR
PRODID:NingEventWidget-v1
VERSION:2.0
METHOD:PUBLISH
BEGIN:VTIMEZONE
TZID:America/New_York
X-LIC-LOCATION:America/New_York
BEGIN:DAYLIGHT
TZOFFSETFROM:-0500
TZOFFSETTO:-0400
TZNAME:EDT
DTSTART:19700308T020000
RRULE:FREQ=YEARLY;BYMONTH=3;BYDAY=2SU
END:DAYLIGHT
BEGIN:STANDARD
TZOFFSETFROM:-0400
TZOFFSETTO:-0500
TZNAME:EST
DTSTART:19701101T020000
RRULE:FREQ=YEARLY;BYMONTH=11;BYDAY=1SU
END:STANDARD
END:VTIMEZONE
BEGIN:VEVENT
UID:6419709:Event:48322
DTSTAMP:20260421T180238Z
SUMMARY:The Take 40 Live Lounge Stage
DESCRIPTION:Adam will be playing an intimate and exclusive performance
  at The Standard in Sydney on Wednesday 22 August -- with fans getting
  the chance to chat to their glamorous idol in a special live Q and A 
 session before the gig.   Keeping with the unique vibe of The Take 40 
 Live Lounge -- only 300 tickets will be made available to Adam's perfo
 rmance and are only obtainable for purchase by Debit MasterCard holder
 s.\n\nFor more information visit https://adamlambertstorm.com/events/t
 he-take-40-live-lounge-stage
DTSTART;TZID=America/New_York:20120822T183000
DTEND;TZID=America/New_York:20120822T213000
CATEGORIES:concert
LOCATION:Take 40 Live Lounge Stage
WEBSITE:http://www.take40.com/news/32536/adam-lambert-to-perform-on-th
 e-take-40-live-lounge-stage-presented-by-debit-mastercard
URL:http://www.take40.com/news/32536/adam-lambert-to-perform-on-the-ta
 ke-40-live-lounge-stage-presented-by-debit-mastercard
CONTACT:
ORGANIZER;CN=Barbls:https://adamlambertstorm.com/profile/BARBLS
ATTACH;FMTTYPE="image/jpeg":http://storage.ning.com/topology/rest/1.0/
 file/get/120052300?profile=original
ATTENDEE;ROLE=REQ-PARTICIPANT;PARTSTAT=ACCEPTED;RSVP=TRUE;CN=Barbls:ht
 tps://adamlambertstorm.com/profile/BARBLS
END:VEVENT
END:VCALENDAR
