BEGIN:VCALENDAR
PRODID:NingEventWidget-v1
VERSION:2.0
METHOD:PUBLISH
BEGIN:VTIMEZONE
TZID:America/New_York
X-LIC-LOCATION:America/New_York
BEGIN:DAYLIGHT
TZOFFSETFROM:-0500
TZOFFSETTO:-0400
TZNAME:EDT
DTSTART:19700308T020000
RRULE:FREQ=YEARLY;BYMONTH=3;BYDAY=2SU
END:DAYLIGHT
BEGIN:STANDARD
TZOFFSETFROM:-0400
TZOFFSETTO:-0500
TZNAME:EST
DTSTART:19701101T020000
RRULE:FREQ=YEARLY;BYMONTH=11;BYDAY=1SU
END:STANDARD
END:VTIMEZONE
BEGIN:VEVENT
UID:6419709:Event:46260
DTSTAMP:20260421T194956Z
SUMMARY:WATCH: Adam Lambert Perform Live at iHeartRadio
DESCRIPTION:Adam Lambert's new album, Trespassing, hits stores Tuesda
 y, May 15 and he's celebrating the big release by performing an intima
 te show as part of the iHeartRadio Live series in New York City.\nOn T
 uesday, May 15 at 5pm, tune in below to watch Adam Lambert perform son
 gs from his new record and no doubt some old favorites. Don't miss the
  show!\nRead more: http://www.wtam.com/cc-common/news/sections/newsart
 icle.html?feed=104650&article=10121341#ixzz1uoFGraqf\n\nFor more infor
 mation visit https://adamlambertstorm.com/events/watch-adam-lambert-pe
 rform-live-at-iheartradio
DTSTART;TZID=America/New_York:20120515T170000
DTEND;TZID=America/New_York:20120515T180000
CATEGORIES:iheart, radio
LOCATION:iHeart Radio
WEBSITE:http://www.wtam.com/cc-common/news/sections/newsarticle.html?f
 eed=104650&article=10121341#ixzz1uoEMQaYE
URL:http://www.wtam.com/cc-common/news/sections/newsarticle.html?feed=
 104650&article=10121341#ixzz1uoEMQaYE
CONTACT:
ORGANIZER;CN=Barbls:https://adamlambertstorm.com/profile/BARBLS
ATTACH;FMTTYPE="image/jpeg":http://storage.ning.com/topology/rest/1.0/
 file/get/120051932?profile=original
ATTENDEE;ROLE=REQ-PARTICIPANT;PARTSTAT=ACCEPTED;RSVP=TRUE;CN=Barbls:ht
 tps://adamlambertstorm.com/profile/BARBLS
END:VEVENT
END:VCALENDAR
